BEGIN:VCALENDAR
VERSION:2.0
PRODID:-//achurchnearyou.com//eventfeed//EN
CALSCALE:GREGORIAN
METHOD:PUBLISH
X-WR-TIMEZONE:UTC
BEGIN:VEVENT
SUMMARY:Ash Wednesday Service
DTSTART:20250305T171500Z
DTEND:20250305T181500Z
DTSTAMP:20260421T121409Z
UID:11646372025-03-05 17:15:00+00:00achurchnearyou
CATEGORIES:
DESCRIPTION:Join us for a short Ash Wednesday service at 5.15pm at The Pri
 ory.
GEO:-1.178783;52.943757
LOCATION:Lenton Priory
URL:https://www.achurchnearyou.com/church/2845/service-and-events/events/1
 164637/
END:VEVENT
END:VCALENDAR
