BEGIN:VCALENDAR
VERSION:2.0
PRODID:-//achurchnearyou.com//eventfeed//EN
CALSCALE:GREGORIAN
METHOD:PUBLISH
X-WR-TIMEZONE:UTC
BEGIN:VEVENT
SUMMARY:Good Friday liturgy
DTSTART:20250418T100000Z
DTEND:20250418T113000Z
DTSTAMP:20260422T044544Z
UID:11909432025-04-18 10:00:00+00:00achurchnearyou
CATEGORIES:
DESCRIPTION:A time to remember Jesus death together. Hymns\, reflections a
 nd standing at the foot of the cross
GEO:0.083865;52.240764
LOCATION:St Andrew's Girton
URL:https://www.achurchnearyou.com/church/2847/service-and-events/events/1
 190943/
END:VEVENT
END:VCALENDAR
