BEGIN:VCALENDAR
VERSION:2.0
PRODID:-//achurchnearyou.com//eventfeed//EN
CALSCALE:GREGORIAN
METHOD:PUBLISH
X-WR-TIMEZONE:UTC
BEGIN:VEVENT
SUMMARY:Evensong
DTSTART;TZID=Europe/London:20260510T180000
DTEND;TZID=Europe/London:20260510T185000
DTSTAMP:20260421T015408Z
UID:60662026-05-10 18:00:00+01:00achurchnearyou
CATEGORIES:
DESCRIPTION:Every Sunday. Sung according to the Book of Common Prayer.
GEO:0.083865;52.240764
LOCATION:St Andrew's Girton
URL:https://www.achurchnearyou.com/church/2847/service-and-events/events/6
 066/
END:VEVENT
BEGIN:VEVENT
SUMMARY:Evensong
DTSTART;TZID=Europe/London:20260517T180000
DTEND;TZID=Europe/London:20260517T185000
DTSTAMP:20260421T015408Z
UID:60662026-05-17 18:00:00+01:00achurchnearyou
CATEGORIES:
DESCRIPTION:Every Sunday. Sung according to the Book of Common Prayer.
GEO:0.083865;52.240764
LOCATION:St Andrew's Girton
URL:https://www.achurchnearyou.com/church/2847/service-and-events/events/6
 066/
END:VEVENT
BEGIN:VEVENT
SUMMARY:Evensong
DTSTART;TZID=Europe/London:20260614T180000
DTEND;TZID=Europe/London:20260614T185000
DTSTAMP:20260421T015408Z
UID:60662026-06-14 18:00:00+01:00achurchnearyou
CATEGORIES:
DESCRIPTION:Every Sunday. Sung according to the Book of Common Prayer.
GEO:0.083865;52.240764
LOCATION:St Andrew's Girton
URL:https://www.achurchnearyou.com/church/2847/service-and-events/events/6
 066/
END:VEVENT
BEGIN:VEVENT
SUMMARY:Evensong
DTSTART;TZID=Europe/London:20260621T180000
DTEND;TZID=Europe/London:20260621T185000
DTSTAMP:20260421T015408Z
UID:60662026-06-21 18:00:00+01:00achurchnearyou
CATEGORIES:
DESCRIPTION:Every Sunday. Sung according to the Book of Common Prayer.
GEO:0.083865;52.240764
LOCATION:St Andrew's Girton
URL:https://www.achurchnearyou.com/church/2847/service-and-events/events/6
 066/
END:VEVENT
BEGIN:VEVENT
SUMMARY:Evensong
DTSTART;TZID=Europe/London:20260712T180000
DTEND;TZID=Europe/London:20260712T185000
DTSTAMP:20260421T015408Z
UID:60662026-07-12 18:00:00+01:00achurchnearyou
CATEGORIES:
DESCRIPTION:Every Sunday. Sung according to the Book of Common Prayer.
GEO:0.083865;52.240764
LOCATION:St Andrew's Girton
URL:https://www.achurchnearyou.com/church/2847/service-and-events/events/6
 066/
END:VEVENT
BEGIN:VEVENT
SUMMARY:Evensong
DTSTART;TZID=Europe/London:20260719T180000
DTEND;TZID=Europe/London:20260719T185000
DTSTAMP:20260421T015408Z
UID:60662026-07-19 18:00:00+01:00achurchnearyou
CATEGORIES:
DESCRIPTION:Every Sunday. Sung according to the Book of Common Prayer.
GEO:0.083865;52.240764
LOCATION:St Andrew's Girton
URL:https://www.achurchnearyou.com/church/2847/service-and-events/events/6
 066/
END:VEVENT
BEGIN:VEVENT
SUMMARY:Evensong
DTSTART;TZID=Europe/London:20260809T180000
DTEND;TZID=Europe/London:20260809T185000
DTSTAMP:20260421T015408Z
UID:60662026-08-09 18:00:00+01:00achurchnearyou
CATEGORIES:
DESCRIPTION:Every Sunday. Sung according to the Book of Common Prayer.
GEO:0.083865;52.240764
LOCATION:St Andrew's Girton
URL:https://www.achurchnearyou.com/church/2847/service-and-events/events/6
 066/
END:VEVENT
BEGIN:VEVENT
SUMMARY:Evensong
DTSTART;TZID=Europe/London:20260816T180000
DTEND;TZID=Europe/London:20260816T185000
DTSTAMP:20260421T015408Z
UID:60662026-08-16 18:00:00+01:00achurchnearyou
CATEGORIES:
DESCRIPTION:Every Sunday. Sung according to the Book of Common Prayer.
GEO:0.083865;52.240764
LOCATION:St Andrew's Girton
URL:https://www.achurchnearyou.com/church/2847/service-and-events/events/6
 066/
END:VEVENT
BEGIN:VEVENT
SUMMARY:Evensong
DTSTART;TZID=Europe/London:20260913T180000
DTEND;TZID=Europe/London:20260913T185000
DTSTAMP:20260421T015408Z
UID:60662026-09-13 18:00:00+01:00achurchnearyou
CATEGORIES:
DESCRIPTION:Every Sunday. Sung according to the Book of Common Prayer.
GEO:0.083865;52.240764
LOCATION:St Andrew's Girton
URL:https://www.achurchnearyou.com/church/2847/service-and-events/events/6
 066/
END:VEVENT
BEGIN:VEVENT
SUMMARY:Evensong
DTSTART;TZID=Europe/London:20260920T180000
DTEND;TZID=Europe/London:20260920T185000
DTSTAMP:20260421T015408Z
UID:60662026-09-20 18:00:00+01:00achurchnearyou
CATEGORIES:
DESCRIPTION:Every Sunday. Sung according to the Book of Common Prayer.
GEO:0.083865;52.240764
LOCATION:St Andrew's Girton
URL:https://www.achurchnearyou.com/church/2847/service-and-events/events/6
 066/
END:VEVENT
BEGIN:VEVENT
SUMMARY:Evensong
DTSTART;TZID=Europe/London:20261011T180000
DTEND;TZID=Europe/London:20261011T185000
DTSTAMP:20260421T015408Z
UID:60662026-10-11 18:00:00+01:00achurchnearyou
CATEGORIES:
DESCRIPTION:Every Sunday. Sung according to the Book of Common Prayer.
GEO:0.083865;52.240764
LOCATION:St Andrew's Girton
URL:https://www.achurchnearyou.com/church/2847/service-and-events/events/6
 066/
END:VEVENT
BEGIN:VEVENT
SUMMARY:Evensong
DTSTART;TZID=Europe/London:20261018T180000
DTEND;TZID=Europe/London:20261018T185000
DTSTAMP:20260421T015408Z
UID:60662026-10-18 18:00:00+01:00achurchnearyou
CATEGORIES:
DESCRIPTION:Every Sunday. Sung according to the Book of Common Prayer.
GEO:0.083865;52.240764
LOCATION:St Andrew's Girton
URL:https://www.achurchnearyou.com/church/2847/service-and-events/events/6
 066/
END:VEVENT
BEGIN:VEVENT
SUMMARY:Evensong
DTSTART;TZID=Europe/London:20261108T180000
DTEND;TZID=Europe/London:20261108T185000
DTSTAMP:20260421T015408Z
UID:60662026-11-08 18:00:00+00:00achurchnearyou
CATEGORIES:
DESCRIPTION:Every Sunday. Sung according to the Book of Common Prayer.
GEO:0.083865;52.240764
LOCATION:St Andrew's Girton
URL:https://www.achurchnearyou.com/church/2847/service-and-events/events/6
 066/
END:VEVENT
BEGIN:VEVENT
SUMMARY:Evensong
DTSTART;TZID=Europe/London:20261115T180000
DTEND;TZID=Europe/London:20261115T185000
DTSTAMP:20260421T015408Z
UID:60662026-11-15 18:00:00+00:00achurchnearyou
CATEGORIES:
DESCRIPTION:Every Sunday. Sung according to the Book of Common Prayer.
GEO:0.083865;52.240764
LOCATION:St Andrew's Girton
URL:https://www.achurchnearyou.com/church/2847/service-and-events/events/6
 066/
END:VEVENT
BEGIN:VEVENT
SUMMARY:Evensong
DTSTART;TZID=Europe/London:20261213T180000
DTEND;TZID=Europe/London:20261213T185000
DTSTAMP:20260421T015408Z
UID:60662026-12-13 18:00:00+00:00achurchnearyou
CATEGORIES:
DESCRIPTION:Every Sunday. Sung according to the Book of Common Prayer.
GEO:0.083865;52.240764
LOCATION:St Andrew's Girton
URL:https://www.achurchnearyou.com/church/2847/service-and-events/events/6
 066/
END:VEVENT
BEGIN:VEVENT
SUMMARY:Evensong
DTSTART;TZID=Europe/London:20261220T180000
DTEND;TZID=Europe/London:20261220T185000
DTSTAMP:20260421T015408Z
UID:60662026-12-20 18:00:00+00:00achurchnearyou
CATEGORIES:
DESCRIPTION:Every Sunday. Sung according to the Book of Common Prayer.
GEO:0.083865;52.240764
LOCATION:St Andrew's Girton
URL:https://www.achurchnearyou.com/church/2847/service-and-events/events/6
 066/
END:VEVENT
BEGIN:VEVENT
SUMMARY:Evensong
DTSTART;TZID=Europe/London:20270110T180000
DTEND;TZID=Europe/London:20270110T185000
DTSTAMP:20260421T015408Z
UID:60662027-01-10 18:00:00+00:00achurchnearyou
CATEGORIES:
DESCRIPTION:Every Sunday. Sung according to the Book of Common Prayer.
GEO:0.083865;52.240764
LOCATION:St Andrew's Girton
URL:https://www.achurchnearyou.com/church/2847/service-and-events/events/6
 066/
END:VEVENT
BEGIN:VEVENT
SUMMARY:Evensong
DTSTART;TZID=Europe/London:20270117T180000
DTEND;TZID=Europe/London:20270117T185000
DTSTAMP:20260421T015408Z
UID:60662027-01-17 18:00:00+00:00achurchnearyou
CATEGORIES:
DESCRIPTION:Every Sunday. Sung according to the Book of Common Prayer.
GEO:0.083865;52.240764
LOCATION:St Andrew's Girton
URL:https://www.achurchnearyou.com/church/2847/service-and-events/events/6
 066/
END:VEVENT
BEGIN:VEVENT
SUMMARY:Evensong
DTSTART;TZID=Europe/London:20270214T180000
DTEND;TZID=Europe/London:20270214T185000
DTSTAMP:20260421T015408Z
UID:60662027-02-14 18:00:00+00:00achurchnearyou
CATEGORIES:
DESCRIPTION:Every Sunday. Sung according to the Book of Common Prayer.
GEO:0.083865;52.240764
LOCATION:St Andrew's Girton
URL:https://www.achurchnearyou.com/church/2847/service-and-events/events/6
 066/
END:VEVENT
BEGIN:VEVENT
SUMMARY:Evensong
DTSTART;TZID=Europe/London:20270221T180000
DTEND;TZID=Europe/London:20270221T185000
DTSTAMP:20260421T015408Z
UID:60662027-02-21 18:00:00+00:00achurchnearyou
CATEGORIES:
DESCRIPTION:Every Sunday. Sung according to the Book of Common Prayer.
GEO:0.083865;52.240764
LOCATION:St Andrew's Girton
URL:https://www.achurchnearyou.com/church/2847/service-and-events/events/6
 066/
END:VEVENT
BEGIN:VEVENT
SUMMARY:Evensong
DTSTART;TZID=Europe/London:20270314T180000
DTEND;TZID=Europe/London:20270314T185000
DTSTAMP:20260421T015408Z
UID:60662027-03-14 18:00:00+00:00achurchnearyou
CATEGORIES:
DESCRIPTION:Every Sunday. Sung according to the Book of Common Prayer.
GEO:0.083865;52.240764
LOCATION:St Andrew's Girton
URL:https://www.achurchnearyou.com/church/2847/service-and-events/events/6
 066/
END:VEVENT
BEGIN:VEVENT
SUMMARY:Evensong
DTSTART;TZID=Europe/London:20270321T180000
DTEND;TZID=Europe/London:20270321T185000
DTSTAMP:20260421T015408Z
UID:60662027-03-21 18:00:00+00:00achurchnearyou
CATEGORIES:
DESCRIPTION:Every Sunday. Sung according to the Book of Common Prayer.
GEO:0.083865;52.240764
LOCATION:St Andrew's Girton
URL:https://www.achurchnearyou.com/church/2847/service-and-events/events/6
 066/
END:VEVENT
BEGIN:VEVENT
SUMMARY:Evensong
DTSTART;TZID=Europe/London:20270411T180000
DTEND;TZID=Europe/London:20270411T185000
DTSTAMP:20260421T015408Z
UID:60662027-04-11 18:00:00+01:00achurchnearyou
CATEGORIES:
DESCRIPTION:Every Sunday. Sung according to the Book of Common Prayer.
GEO:0.083865;52.240764
LOCATION:St Andrew's Girton
URL:https://www.achurchnearyou.com/church/2847/service-and-events/events/6
 066/
END:VEVENT
BEGIN:VEVENT
SUMMARY:Evensong
DTSTART;TZID=Europe/London:20270418T180000
DTEND;TZID=Europe/London:20270418T185000
DTSTAMP:20260421T015408Z
UID:60662027-04-18 18:00:00+01:00achurchnearyou
CATEGORIES:
DESCRIPTION:Every Sunday. Sung according to the Book of Common Prayer.
GEO:0.083865;52.240764
LOCATION:St Andrew's Girton
URL:https://www.achurchnearyou.com/church/2847/service-and-events/events/6
 066/
END:VEVENT
END:VCALENDAR
