BEGIN:VCALENDAR
VERSION:2.0
PRODID:-//achurchnearyou.com//eventfeed//EN
CALSCALE:GREGORIAN
METHOD:PUBLISH
X-WR-TIMEZONE:UTC
BEGIN:VEVENT
SUMMARY:Family Eucharist
DTSTART;TZID=Europe/London:20260510T103000
DTEND;TZID=Europe/London:20260510T113000
DTSTAMP:20260420T075128Z
UID:4531882026-05-10 10:30:00+01:00achurchnearyou
CATEGORIES:
DESCRIPTION:This service is family orientated and is a little shorter. The
  children are actively encouraged to participate in the service. Refreshme
 nts are served at the end. There is no incense on the second Sunday of the
  month.
GEO:1.33898;52.626394
LOCATION:Thorpe St Andrew Parish Church
URL:https://www.achurchnearyou.com/church/2863/service-and-events/events/4
 53188/
END:VEVENT
BEGIN:VEVENT
SUMMARY:Family Eucharist
DTSTART;TZID=Europe/London:20260614T103000
DTEND;TZID=Europe/London:20260614T113000
DTSTAMP:20260420T075128Z
UID:4531882026-06-14 10:30:00+01:00achurchnearyou
CATEGORIES:
DESCRIPTION:This service is family orientated and is a little shorter. The
  children are actively encouraged to participate in the service. Refreshme
 nts are served at the end. There is no incense on the second Sunday of the
  month.
GEO:1.33898;52.626394
LOCATION:Thorpe St Andrew Parish Church
URL:https://www.achurchnearyou.com/church/2863/service-and-events/events/4
 53188/
END:VEVENT
BEGIN:VEVENT
SUMMARY:Family Eucharist
DTSTART;TZID=Europe/London:20260712T103000
DTEND;TZID=Europe/London:20260712T113000
DTSTAMP:20260420T075128Z
UID:4531882026-07-12 10:30:00+01:00achurchnearyou
CATEGORIES:
DESCRIPTION:This service is family orientated and is a little shorter. The
  children are actively encouraged to participate in the service. Refreshme
 nts are served at the end. There is no incense on the second Sunday of the
  month.
GEO:1.33898;52.626394
LOCATION:Thorpe St Andrew Parish Church
URL:https://www.achurchnearyou.com/church/2863/service-and-events/events/4
 53188/
END:VEVENT
BEGIN:VEVENT
SUMMARY:Family Eucharist
DTSTART;TZID=Europe/London:20260809T103000
DTEND;TZID=Europe/London:20260809T113000
DTSTAMP:20260420T075128Z
UID:4531882026-08-09 10:30:00+01:00achurchnearyou
CATEGORIES:
DESCRIPTION:This service is family orientated and is a little shorter. The
  children are actively encouraged to participate in the service. Refreshme
 nts are served at the end. There is no incense on the second Sunday of the
  month.
GEO:1.33898;52.626394
LOCATION:Thorpe St Andrew Parish Church
URL:https://www.achurchnearyou.com/church/2863/service-and-events/events/4
 53188/
END:VEVENT
BEGIN:VEVENT
SUMMARY:Family Eucharist
DTSTART;TZID=Europe/London:20260913T103000
DTEND;TZID=Europe/London:20260913T113000
DTSTAMP:20260420T075128Z
UID:4531882026-09-13 10:30:00+01:00achurchnearyou
CATEGORIES:
DESCRIPTION:This service is family orientated and is a little shorter. The
  children are actively encouraged to participate in the service. Refreshme
 nts are served at the end. There is no incense on the second Sunday of the
  month.
GEO:1.33898;52.626394
LOCATION:Thorpe St Andrew Parish Church
URL:https://www.achurchnearyou.com/church/2863/service-and-events/events/4
 53188/
END:VEVENT
BEGIN:VEVENT
SUMMARY:Family Eucharist
DTSTART;TZID=Europe/London:20261011T103000
DTEND;TZID=Europe/London:20261011T113000
DTSTAMP:20260420T075128Z
UID:4531882026-10-11 10:30:00+01:00achurchnearyou
CATEGORIES:
DESCRIPTION:This service is family orientated and is a little shorter. The
  children are actively encouraged to participate in the service. Refreshme
 nts are served at the end. There is no incense on the second Sunday of the
  month.
GEO:1.33898;52.626394
LOCATION:Thorpe St Andrew Parish Church
URL:https://www.achurchnearyou.com/church/2863/service-and-events/events/4
 53188/
END:VEVENT
BEGIN:VEVENT
SUMMARY:Family Eucharist
DTSTART;TZID=Europe/London:20261108T103000
DTEND;TZID=Europe/London:20261108T113000
DTSTAMP:20260420T075128Z
UID:4531882026-11-08 10:30:00+00:00achurchnearyou
CATEGORIES:
DESCRIPTION:This service is family orientated and is a little shorter. The
  children are actively encouraged to participate in the service. Refreshme
 nts are served at the end. There is no incense on the second Sunday of the
  month.
GEO:1.33898;52.626394
LOCATION:Thorpe St Andrew Parish Church
URL:https://www.achurchnearyou.com/church/2863/service-and-events/events/4
 53188/
END:VEVENT
BEGIN:VEVENT
SUMMARY:Family Eucharist
DTSTART;TZID=Europe/London:20261213T103000
DTEND;TZID=Europe/London:20261213T113000
DTSTAMP:20260420T075128Z
UID:4531882026-12-13 10:30:00+00:00achurchnearyou
CATEGORIES:
DESCRIPTION:This service is family orientated and is a little shorter. The
  children are actively encouraged to participate in the service. Refreshme
 nts are served at the end. There is no incense on the second Sunday of the
  month.
GEO:1.33898;52.626394
LOCATION:Thorpe St Andrew Parish Church
URL:https://www.achurchnearyou.com/church/2863/service-and-events/events/4
 53188/
END:VEVENT
BEGIN:VEVENT
SUMMARY:Family Eucharist
DTSTART;TZID=Europe/London:20270110T103000
DTEND;TZID=Europe/London:20270110T113000
DTSTAMP:20260420T075128Z
UID:4531882027-01-10 10:30:00+00:00achurchnearyou
CATEGORIES:
DESCRIPTION:This service is family orientated and is a little shorter. The
  children are actively encouraged to participate in the service. Refreshme
 nts are served at the end. There is no incense on the second Sunday of the
  month.
GEO:1.33898;52.626394
LOCATION:Thorpe St Andrew Parish Church
URL:https://www.achurchnearyou.com/church/2863/service-and-events/events/4
 53188/
END:VEVENT
BEGIN:VEVENT
SUMMARY:Family Eucharist
DTSTART;TZID=Europe/London:20270214T103000
DTEND;TZID=Europe/London:20270214T113000
DTSTAMP:20260420T075128Z
UID:4531882027-02-14 10:30:00+00:00achurchnearyou
CATEGORIES:
DESCRIPTION:This service is family orientated and is a little shorter. The
  children are actively encouraged to participate in the service. Refreshme
 nts are served at the end. There is no incense on the second Sunday of the
  month.
GEO:1.33898;52.626394
LOCATION:Thorpe St Andrew Parish Church
URL:https://www.achurchnearyou.com/church/2863/service-and-events/events/4
 53188/
END:VEVENT
BEGIN:VEVENT
SUMMARY:Family Eucharist
DTSTART;TZID=Europe/London:20270314T103000
DTEND;TZID=Europe/London:20270314T113000
DTSTAMP:20260420T075128Z
UID:4531882027-03-14 10:30:00+00:00achurchnearyou
CATEGORIES:
DESCRIPTION:This service is family orientated and is a little shorter. The
  children are actively encouraged to participate in the service. Refreshme
 nts are served at the end. There is no incense on the second Sunday of the
  month.
GEO:1.33898;52.626394
LOCATION:Thorpe St Andrew Parish Church
URL:https://www.achurchnearyou.com/church/2863/service-and-events/events/4
 53188/
END:VEVENT
BEGIN:VEVENT
SUMMARY:Family Eucharist
DTSTART;TZID=Europe/London:20270411T103000
DTEND;TZID=Europe/London:20270411T113000
DTSTAMP:20260420T075128Z
UID:4531882027-04-11 10:30:00+01:00achurchnearyou
CATEGORIES:
DESCRIPTION:This service is family orientated and is a little shorter. The
  children are actively encouraged to participate in the service. Refreshme
 nts are served at the end. There is no incense on the second Sunday of the
  month.
GEO:1.33898;52.626394
LOCATION:Thorpe St Andrew Parish Church
URL:https://www.achurchnearyou.com/church/2863/service-and-events/events/4
 53188/
END:VEVENT
END:VCALENDAR
