BEGIN:VCALENDAR
VERSION:2.0
PRODID:-//achurchnearyou.com//eventfeed//EN
CALSCALE:GREGORIAN
METHOD:PUBLISH
X-WR-TIMEZONE:UTC
BEGIN:VEVENT
SUMMARY:Midnight Mass
DTSTART:20251224T230000Z
DTEND:20251224T235900Z
DTSTAMP:20260419T152752Z
UID:12725322025-12-24 23:00:00+00:00achurchnearyou
CATEGORIES:
DESCRIPTION:Come and Welcome in CHristmas morning at the beautiful Midnigh
 t Sung Mass
GEO:-0.386475;50.813743
LOCATION:St Botolph's Church\, Heene\, Worthing
URL:https://www.achurchnearyou.com/church/2864/service-and-events/events/1
 272532/
END:VEVENT
END:VCALENDAR
