BEGIN:VCALENDAR
VERSION:2.0
PRODID:-//achurchnearyou.com//eventfeed//EN
CALSCALE:GREGORIAN
METHOD:PUBLISH
X-WR-TIMEZONE:UTC
BEGIN:VEVENT
SUMMARY:Youth Club
DTSTART;TZID=Europe/London:20240920T183000
DTEND;TZID=Europe/London:20240920T200000
DTSTAMP:20260425T130436Z
UID:10839952024-09-20 18:30:00+01:00achurchnearyou
CATEGORIES:
DESCRIPTION:This club will be for all children in school years 6\, 7 & 8.\
 n\nFUN\, GAMES\, ACTIVITIES & SNACKS\n\nIt will run on a Friday each month
 .  6.30 -8pm\n\nDates for 2026 are below:-\n\n16th January 2026\n27th Febr
 uary (week later due to other bookings in Church)\n20th March\nNo Group in
  April\n15th May\n12th June\n17th July\nNo group in August\n18th September
 \n16th October\n20th November\nNo group in December
GEO:-1.036987;51.41052
LOCATION:St Mary's Burghfield
URL:https://www.achurchnearyou.com/church/287/service-and-events/events/10
 83995/
END:VEVENT
BEGIN:VEVENT
SUMMARY:Youth Club
DTSTART;TZID=Europe/London:20241018T183000
DTEND;TZID=Europe/London:20241018T200000
DTSTAMP:20260425T130436Z
UID:10839952024-10-18 18:30:00+01:00achurchnearyou
CATEGORIES:
DESCRIPTION:This club will be for all children in school years 6\, 7 & 8.\
 n\nFUN\, GAMES\, ACTIVITIES & SNACKS\n\nIt will run on a Friday each month
 .  6.30 -8pm\n\nDates for 2026 are below:-\n\n16th January 2026\n27th Febr
 uary (week later due to other bookings in Church)\n20th March\nNo Group in
  April\n15th May\n12th June\n17th July\nNo group in August\n18th September
 \n16th October\n20th November\nNo group in December
GEO:-1.036987;51.41052
LOCATION:St Mary's Burghfield
URL:https://www.achurchnearyou.com/church/287/service-and-events/events/10
 83995/
END:VEVENT
BEGIN:VEVENT
SUMMARY:Youth Club
DTSTART;TZID=Europe/London:20241115T183000
DTEND;TZID=Europe/London:20241115T200000
DTSTAMP:20260425T130436Z
UID:10839952024-11-15 18:30:00+00:00achurchnearyou
CATEGORIES:
DESCRIPTION:This club will be for all children in school years 6\, 7 & 8.\
 n\nFUN\, GAMES\, ACTIVITIES & SNACKS\n\nIt will run on a Friday each month
 .  6.30 -8pm\n\nDates for 2026 are below:-\n\n16th January 2026\n27th Febr
 uary (week later due to other bookings in Church)\n20th March\nNo Group in
  April\n15th May\n12th June\n17th July\nNo group in August\n18th September
 \n16th October\n20th November\nNo group in December
GEO:-1.036987;51.41052
LOCATION:St Mary's Burghfield
URL:https://www.achurchnearyou.com/church/287/service-and-events/events/10
 83995/
END:VEVENT
BEGIN:VEVENT
SUMMARY:Youth Club
DTSTART;TZID=Europe/London:20241220T183000
DTEND;TZID=Europe/London:20241220T200000
DTSTAMP:20260425T130436Z
UID:10839952024-12-20 18:30:00+00:00achurchnearyou
CATEGORIES:
DESCRIPTION:This club will be for all children in school years 6\, 7 & 8.\
 n\nFUN\, GAMES\, ACTIVITIES & SNACKS\n\nIt will run on a Friday each month
 .  6.30 -8pm\n\nDates for 2026 are below:-\n\n16th January 2026\n27th Febr
 uary (week later due to other bookings in Church)\n20th March\nNo Group in
  April\n15th May\n12th June\n17th July\nNo group in August\n18th September
 \n16th October\n20th November\nNo group in December
GEO:-1.036987;51.41052
LOCATION:St Mary's Burghfield
URL:https://www.achurchnearyou.com/church/287/service-and-events/events/10
 83995/
END:VEVENT
BEGIN:VEVENT
SUMMARY:Youth Club
DTSTART;TZID=Europe/London:20250117T183000
DTEND;TZID=Europe/London:20250117T200000
DTSTAMP:20260425T130436Z
UID:10839952025-01-17 18:30:00+00:00achurchnearyou
CATEGORIES:
DESCRIPTION:This club will be for all children in school years 6\, 7 & 8.\
 n\nFUN\, GAMES\, ACTIVITIES & SNACKS\n\nIt will run on a Friday each month
 .  6.30 -8pm\n\nDates for 2026 are below:-\n\n16th January 2026\n27th Febr
 uary (week later due to other bookings in Church)\n20th March\nNo Group in
  April\n15th May\n12th June\n17th July\nNo group in August\n18th September
 \n16th October\n20th November\nNo group in December
GEO:-1.036987;51.41052
LOCATION:St Mary's Burghfield
URL:https://www.achurchnearyou.com/church/287/service-and-events/events/10
 83995/
END:VEVENT
BEGIN:VEVENT
SUMMARY:Youth Club
DTSTART;TZID=Europe/London:20250221T183000
DTEND;TZID=Europe/London:20250221T200000
DTSTAMP:20260425T130436Z
UID:10839952025-02-21 18:30:00+00:00achurchnearyou
CATEGORIES:
DESCRIPTION:This club will be for all children in school years 6\, 7 & 8.\
 n\nFUN\, GAMES\, ACTIVITIES & SNACKS\n\nIt will run on a Friday each month
 .  6.30 -8pm\n\nDates for 2026 are below:-\n\n16th January 2026\n27th Febr
 uary (week later due to other bookings in Church)\n20th March\nNo Group in
  April\n15th May\n12th June\n17th July\nNo group in August\n18th September
 \n16th October\n20th November\nNo group in December
GEO:-1.036987;51.41052
LOCATION:St Mary's Burghfield
URL:https://www.achurchnearyou.com/church/287/service-and-events/events/10
 83995/
END:VEVENT
BEGIN:VEVENT
SUMMARY:Youth Club
DTSTART;TZID=Europe/London:20250321T183000
DTEND;TZID=Europe/London:20250321T200000
DTSTAMP:20260425T130436Z
UID:10839952025-03-21 18:30:00+00:00achurchnearyou
CATEGORIES:
DESCRIPTION:This club will be for all children in school years 6\, 7 & 8.\
 n\nFUN\, GAMES\, ACTIVITIES & SNACKS\n\nIt will run on a Friday each month
 .  6.30 -8pm\n\nDates for 2026 are below:-\n\n16th January 2026\n27th Febr
 uary (week later due to other bookings in Church)\n20th March\nNo Group in
  April\n15th May\n12th June\n17th July\nNo group in August\n18th September
 \n16th October\n20th November\nNo group in December
GEO:-1.036987;51.41052
LOCATION:St Mary's Burghfield
URL:https://www.achurchnearyou.com/church/287/service-and-events/events/10
 83995/
END:VEVENT
BEGIN:VEVENT
SUMMARY:Youth Club
DTSTART;TZID=Europe/London:20250418T183000
DTEND;TZID=Europe/London:20250418T200000
DTSTAMP:20260425T130436Z
UID:10839952025-04-18 18:30:00+01:00achurchnearyou
CATEGORIES:
DESCRIPTION:This club will be for all children in school years 6\, 7 & 8.\
 n\nFUN\, GAMES\, ACTIVITIES & SNACKS\n\nIt will run on a Friday each month
 .  6.30 -8pm\n\nDates for 2026 are below:-\n\n16th January 2026\n27th Febr
 uary (week later due to other bookings in Church)\n20th March\nNo Group in
  April\n15th May\n12th June\n17th July\nNo group in August\n18th September
 \n16th October\n20th November\nNo group in December
GEO:-1.036987;51.41052
LOCATION:St Mary's Burghfield
URL:https://www.achurchnearyou.com/church/287/service-and-events/events/10
 83995/
END:VEVENT
BEGIN:VEVENT
SUMMARY:Youth Club
DTSTART;TZID=Europe/London:20250516T183000
DTEND;TZID=Europe/London:20250516T200000
DTSTAMP:20260425T130436Z
UID:10839952025-05-16 18:30:00+01:00achurchnearyou
CATEGORIES:
DESCRIPTION:This club will be for all children in school years 6\, 7 & 8.\
 n\nFUN\, GAMES\, ACTIVITIES & SNACKS\n\nIt will run on a Friday each month
 .  6.30 -8pm\n\nDates for 2026 are below:-\n\n16th January 2026\n27th Febr
 uary (week later due to other bookings in Church)\n20th March\nNo Group in
  April\n15th May\n12th June\n17th July\nNo group in August\n18th September
 \n16th October\n20th November\nNo group in December
GEO:-1.036987;51.41052
LOCATION:St Mary's Burghfield
URL:https://www.achurchnearyou.com/church/287/service-and-events/events/10
 83995/
END:VEVENT
BEGIN:VEVENT
SUMMARY:Youth Club
DTSTART;TZID=Europe/London:20250620T183000
DTEND;TZID=Europe/London:20250620T200000
DTSTAMP:20260425T130436Z
UID:10839952025-06-20 18:30:00+01:00achurchnearyou
CATEGORIES:
DESCRIPTION:This club will be for all children in school years 6\, 7 & 8.\
 n\nFUN\, GAMES\, ACTIVITIES & SNACKS\n\nIt will run on a Friday each month
 .  6.30 -8pm\n\nDates for 2026 are below:-\n\n16th January 2026\n27th Febr
 uary (week later due to other bookings in Church)\n20th March\nNo Group in
  April\n15th May\n12th June\n17th July\nNo group in August\n18th September
 \n16th October\n20th November\nNo group in December
GEO:-1.036987;51.41052
LOCATION:St Mary's Burghfield
URL:https://www.achurchnearyou.com/church/287/service-and-events/events/10
 83995/
END:VEVENT
BEGIN:VEVENT
SUMMARY:Youth Club
DTSTART;TZID=Europe/London:20250718T183000
DTEND;TZID=Europe/London:20250718T200000
DTSTAMP:20260425T130436Z
UID:10839952025-07-18 18:30:00+01:00achurchnearyou
CATEGORIES:
DESCRIPTION:This club will be for all children in school years 6\, 7 & 8.\
 n\nFUN\, GAMES\, ACTIVITIES & SNACKS\n\nIt will run on a Friday each month
 .  6.30 -8pm\n\nDates for 2026 are below:-\n\n16th January 2026\n27th Febr
 uary (week later due to other bookings in Church)\n20th March\nNo Group in
  April\n15th May\n12th June\n17th July\nNo group in August\n18th September
 \n16th October\n20th November\nNo group in December
GEO:-1.036987;51.41052
LOCATION:St Mary's Burghfield
URL:https://www.achurchnearyou.com/church/287/service-and-events/events/10
 83995/
END:VEVENT
BEGIN:VEVENT
SUMMARY:Youth Club
DTSTART;TZID=Europe/London:20250815T183000
DTEND;TZID=Europe/London:20250815T200000
DTSTAMP:20260425T130436Z
UID:10839952025-08-15 18:30:00+01:00achurchnearyou
CATEGORIES:
DESCRIPTION:This club will be for all children in school years 6\, 7 & 8.\
 n\nFUN\, GAMES\, ACTIVITIES & SNACKS\n\nIt will run on a Friday each month
 .  6.30 -8pm\n\nDates for 2026 are below:-\n\n16th January 2026\n27th Febr
 uary (week later due to other bookings in Church)\n20th March\nNo Group in
  April\n15th May\n12th June\n17th July\nNo group in August\n18th September
 \n16th October\n20th November\nNo group in December
GEO:-1.036987;51.41052
LOCATION:St Mary's Burghfield
URL:https://www.achurchnearyou.com/church/287/service-and-events/events/10
 83995/
END:VEVENT
BEGIN:VEVENT
SUMMARY:Youth Club
DTSTART;TZID=Europe/London:20250919T183000
DTEND;TZID=Europe/London:20250919T200000
DTSTAMP:20260425T130436Z
UID:10839952025-09-19 18:30:00+01:00achurchnearyou
CATEGORIES:
DESCRIPTION:This club will be for all children in school years 6\, 7 & 8.\
 n\nFUN\, GAMES\, ACTIVITIES & SNACKS\n\nIt will run on a Friday each month
 .  6.30 -8pm\n\nDates for 2026 are below:-\n\n16th January 2026\n27th Febr
 uary (week later due to other bookings in Church)\n20th March\nNo Group in
  April\n15th May\n12th June\n17th July\nNo group in August\n18th September
 \n16th October\n20th November\nNo group in December
GEO:-1.036987;51.41052
LOCATION:St Mary's Burghfield
URL:https://www.achurchnearyou.com/church/287/service-and-events/events/10
 83995/
END:VEVENT
BEGIN:VEVENT
SUMMARY:Youth Club
DTSTART;TZID=Europe/London:20251017T183000
DTEND;TZID=Europe/London:20251017T200000
DTSTAMP:20260425T130436Z
UID:10839952025-10-17 18:30:00+01:00achurchnearyou
CATEGORIES:
DESCRIPTION:This club will be for all children in school years 6\, 7 & 8.\
 n\nFUN\, GAMES\, ACTIVITIES & SNACKS\n\nIt will run on a Friday each month
 .  6.30 -8pm\n\nDates for 2026 are below:-\n\n16th January 2026\n27th Febr
 uary (week later due to other bookings in Church)\n20th March\nNo Group in
  April\n15th May\n12th June\n17th July\nNo group in August\n18th September
 \n16th October\n20th November\nNo group in December
GEO:-1.036987;51.41052
LOCATION:St Mary's Burghfield
URL:https://www.achurchnearyou.com/church/287/service-and-events/events/10
 83995/
END:VEVENT
BEGIN:VEVENT
SUMMARY:Youth Club
DTSTART;TZID=Europe/London:20251121T183000
DTEND;TZID=Europe/London:20251121T200000
DTSTAMP:20260425T130436Z
UID:10839952025-11-21 18:30:00+00:00achurchnearyou
CATEGORIES:
DESCRIPTION:This club will be for all children in school years 6\, 7 & 8.\
 n\nFUN\, GAMES\, ACTIVITIES & SNACKS\n\nIt will run on a Friday each month
 .  6.30 -8pm\n\nDates for 2026 are below:-\n\n16th January 2026\n27th Febr
 uary (week later due to other bookings in Church)\n20th March\nNo Group in
  April\n15th May\n12th June\n17th July\nNo group in August\n18th September
 \n16th October\n20th November\nNo group in December
GEO:-1.036987;51.41052
LOCATION:St Mary's Burghfield
URL:https://www.achurchnearyou.com/church/287/service-and-events/events/10
 83995/
END:VEVENT
BEGIN:VEVENT
SUMMARY:Youth Club
DTSTART;TZID=Europe/London:20251219T183000
DTEND;TZID=Europe/London:20251219T200000
DTSTAMP:20260425T130436Z
UID:10839952025-12-19 18:30:00+00:00achurchnearyou
CATEGORIES:
DESCRIPTION:This club will be for all children in school years 6\, 7 & 8.\
 n\nFUN\, GAMES\, ACTIVITIES & SNACKS\n\nIt will run on a Friday each month
 .  6.30 -8pm\n\nDates for 2026 are below:-\n\n16th January 2026\n27th Febr
 uary (week later due to other bookings in Church)\n20th March\nNo Group in
  April\n15th May\n12th June\n17th July\nNo group in August\n18th September
 \n16th October\n20th November\nNo group in December
GEO:-1.036987;51.41052
LOCATION:St Mary's Burghfield
URL:https://www.achurchnearyou.com/church/287/service-and-events/events/10
 83995/
END:VEVENT
BEGIN:VEVENT
SUMMARY:Youth Club
DTSTART;TZID=Europe/London:20260116T183000
DTEND;TZID=Europe/London:20260116T200000
DTSTAMP:20260425T130436Z
UID:10839952026-01-16 18:30:00+00:00achurchnearyou
CATEGORIES:
DESCRIPTION:This club will be for all children in school years 6\, 7 & 8.\
 n\nFUN\, GAMES\, ACTIVITIES & SNACKS\n\nIt will run on a Friday each month
 .  6.30 -8pm\n\nDates for 2026 are below:-\n\n16th January 2026\n27th Febr
 uary (week later due to other bookings in Church)\n20th March\nNo Group in
  April\n15th May\n12th June\n17th July\nNo group in August\n18th September
 \n16th October\n20th November\nNo group in December
GEO:-1.036987;51.41052
LOCATION:St Mary's Burghfield
URL:https://www.achurchnearyou.com/church/287/service-and-events/events/10
 83995/
END:VEVENT
BEGIN:VEVENT
SUMMARY:Youth Club
DTSTART;TZID=Europe/London:20260320T183000
DTEND;TZID=Europe/London:20260320T200000
DTSTAMP:20260425T130436Z
UID:10839952026-03-20 18:30:00+00:00achurchnearyou
CATEGORIES:
DESCRIPTION:This club will be for all children in school years 6\, 7 & 8.\
 n\nFUN\, GAMES\, ACTIVITIES & SNACKS\n\nIt will run on a Friday each month
 .  6.30 -8pm\n\nDates for 2026 are below:-\n\n16th January 2026\n27th Febr
 uary (week later due to other bookings in Church)\n20th March\nNo Group in
  April\n15th May\n12th June\n17th July\nNo group in August\n18th September
 \n16th October\n20th November\nNo group in December
GEO:-1.036987;51.41052
LOCATION:St Mary's Burghfield
URL:https://www.achurchnearyou.com/church/287/service-and-events/events/10
 83995/
END:VEVENT
BEGIN:VEVENT
SUMMARY:Youth Club
DTSTART;TZID=Europe/London:20260515T183000
DTEND;TZID=Europe/London:20260515T200000
DTSTAMP:20260425T130436Z
UID:10839952026-05-15 18:30:00+01:00achurchnearyou
CATEGORIES:
DESCRIPTION:This club will be for all children in school years 6\, 7 & 8.\
 n\nFUN\, GAMES\, ACTIVITIES & SNACKS\n\nIt will run on a Friday each month
 .  6.30 -8pm\n\nDates for 2026 are below:-\n\n16th January 2026\n27th Febr
 uary (week later due to other bookings in Church)\n20th March\nNo Group in
  April\n15th May\n12th June\n17th July\nNo group in August\n18th September
 \n16th October\n20th November\nNo group in December
GEO:-1.036987;51.41052
LOCATION:St Mary's Burghfield
URL:https://www.achurchnearyou.com/church/287/service-and-events/events/10
 83995/
END:VEVENT
BEGIN:VEVENT
SUMMARY:Youth Club
DTSTART;TZID=Europe/London:20260717T183000
DTEND;TZID=Europe/London:20260717T200000
DTSTAMP:20260425T130436Z
UID:10839952026-07-17 18:30:00+01:00achurchnearyou
CATEGORIES:
DESCRIPTION:This club will be for all children in school years 6\, 7 & 8.\
 n\nFUN\, GAMES\, ACTIVITIES & SNACKS\n\nIt will run on a Friday each month
 .  6.30 -8pm\n\nDates for 2026 are below:-\n\n16th January 2026\n27th Febr
 uary (week later due to other bookings in Church)\n20th March\nNo Group in
  April\n15th May\n12th June\n17th July\nNo group in August\n18th September
 \n16th October\n20th November\nNo group in December
GEO:-1.036987;51.41052
LOCATION:St Mary's Burghfield
URL:https://www.achurchnearyou.com/church/287/service-and-events/events/10
 83995/
END:VEVENT
BEGIN:VEVENT
SUMMARY:Youth Club
DTSTART;TZID=Europe/London:20260918T183000
DTEND;TZID=Europe/London:20260918T200000
DTSTAMP:20260425T130436Z
UID:10839952026-09-18 18:30:00+01:00achurchnearyou
CATEGORIES:
DESCRIPTION:This club will be for all children in school years 6\, 7 & 8.\
 n\nFUN\, GAMES\, ACTIVITIES & SNACKS\n\nIt will run on a Friday each month
 .  6.30 -8pm\n\nDates for 2026 are below:-\n\n16th January 2026\n27th Febr
 uary (week later due to other bookings in Church)\n20th March\nNo Group in
  April\n15th May\n12th June\n17th July\nNo group in August\n18th September
 \n16th October\n20th November\nNo group in December
GEO:-1.036987;51.41052
LOCATION:St Mary's Burghfield
URL:https://www.achurchnearyou.com/church/287/service-and-events/events/10
 83995/
END:VEVENT
BEGIN:VEVENT
SUMMARY:Youth Club
DTSTART;TZID=Europe/London:20261016T183000
DTEND;TZID=Europe/London:20261016T200000
DTSTAMP:20260425T130436Z
UID:10839952026-10-16 18:30:00+01:00achurchnearyou
CATEGORIES:
DESCRIPTION:This club will be for all children in school years 6\, 7 & 8.\
 n\nFUN\, GAMES\, ACTIVITIES & SNACKS\n\nIt will run on a Friday each month
 .  6.30 -8pm\n\nDates for 2026 are below:-\n\n16th January 2026\n27th Febr
 uary (week later due to other bookings in Church)\n20th March\nNo Group in
  April\n15th May\n12th June\n17th July\nNo group in August\n18th September
 \n16th October\n20th November\nNo group in December
GEO:-1.036987;51.41052
LOCATION:St Mary's Burghfield
URL:https://www.achurchnearyou.com/church/287/service-and-events/events/10
 83995/
END:VEVENT
BEGIN:VEVENT
SUMMARY:Youth Club
DTSTART;TZID=Europe/London:20261120T183000
DTEND;TZID=Europe/London:20261120T200000
DTSTAMP:20260425T130436Z
UID:10839952026-11-20 18:30:00+00:00achurchnearyou
CATEGORIES:
DESCRIPTION:This club will be for all children in school years 6\, 7 & 8.\
 n\nFUN\, GAMES\, ACTIVITIES & SNACKS\n\nIt will run on a Friday each month
 .  6.30 -8pm\n\nDates for 2026 are below:-\n\n16th January 2026\n27th Febr
 uary (week later due to other bookings in Church)\n20th March\nNo Group in
  April\n15th May\n12th June\n17th July\nNo group in August\n18th September
 \n16th October\n20th November\nNo group in December
GEO:-1.036987;51.41052
LOCATION:St Mary's Burghfield
URL:https://www.achurchnearyou.com/church/287/service-and-events/events/10
 83995/
END:VEVENT
BEGIN:VEVENT
SUMMARY:Youth Club
DTSTART;TZID=Europe/London:20270115T183000
DTEND;TZID=Europe/London:20270115T200000
DTSTAMP:20260425T130436Z
UID:10839952027-01-15 18:30:00+00:00achurchnearyou
CATEGORIES:
DESCRIPTION:This club will be for all children in school years 6\, 7 & 8.\
 n\nFUN\, GAMES\, ACTIVITIES & SNACKS\n\nIt will run on a Friday each month
 .  6.30 -8pm\n\nDates for 2026 are below:-\n\n16th January 2026\n27th Febr
 uary (week later due to other bookings in Church)\n20th March\nNo Group in
  April\n15th May\n12th June\n17th July\nNo group in August\n18th September
 \n16th October\n20th November\nNo group in December
GEO:-1.036987;51.41052
LOCATION:St Mary's Burghfield
URL:https://www.achurchnearyou.com/church/287/service-and-events/events/10
 83995/
END:VEVENT
BEGIN:VEVENT
SUMMARY:Youth Club
DTSTART;TZID=Europe/London:20270219T183000
DTEND;TZID=Europe/London:20270219T200000
DTSTAMP:20260425T130436Z
UID:10839952027-02-19 18:30:00+00:00achurchnearyou
CATEGORIES:
DESCRIPTION:This club will be for all children in school years 6\, 7 & 8.\
 n\nFUN\, GAMES\, ACTIVITIES & SNACKS\n\nIt will run on a Friday each month
 .  6.30 -8pm\n\nDates for 2026 are below:-\n\n16th January 2026\n27th Febr
 uary (week later due to other bookings in Church)\n20th March\nNo Group in
  April\n15th May\n12th June\n17th July\nNo group in August\n18th September
 \n16th October\n20th November\nNo group in December
GEO:-1.036987;51.41052
LOCATION:St Mary's Burghfield
URL:https://www.achurchnearyou.com/church/287/service-and-events/events/10
 83995/
END:VEVENT
BEGIN:VEVENT
SUMMARY:Youth Club
DTSTART;TZID=Europe/London:20270319T183000
DTEND;TZID=Europe/London:20270319T200000
DTSTAMP:20260425T130436Z
UID:10839952027-03-19 18:30:00+00:00achurchnearyou
CATEGORIES:
DESCRIPTION:This club will be for all children in school years 6\, 7 & 8.\
 n\nFUN\, GAMES\, ACTIVITIES & SNACKS\n\nIt will run on a Friday each month
 .  6.30 -8pm\n\nDates for 2026 are below:-\n\n16th January 2026\n27th Febr
 uary (week later due to other bookings in Church)\n20th March\nNo Group in
  April\n15th May\n12th June\n17th July\nNo group in August\n18th September
 \n16th October\n20th November\nNo group in December
GEO:-1.036987;51.41052
LOCATION:St Mary's Burghfield
URL:https://www.achurchnearyou.com/church/287/service-and-events/events/10
 83995/
END:VEVENT
BEGIN:VEVENT
SUMMARY:Youth Club
DTSTART;TZID=Europe/London:20270416T183000
DTEND;TZID=Europe/London:20270416T200000
DTSTAMP:20260425T130436Z
UID:10839952027-04-16 18:30:00+01:00achurchnearyou
CATEGORIES:
DESCRIPTION:This club will be for all children in school years 6\, 7 & 8.\
 n\nFUN\, GAMES\, ACTIVITIES & SNACKS\n\nIt will run on a Friday each month
 .  6.30 -8pm\n\nDates for 2026 are below:-\n\n16th January 2026\n27th Febr
 uary (week later due to other bookings in Church)\n20th March\nNo Group in
  April\n15th May\n12th June\n17th July\nNo group in August\n18th September
 \n16th October\n20th November\nNo group in December
GEO:-1.036987;51.41052
LOCATION:St Mary's Burghfield
URL:https://www.achurchnearyou.com/church/287/service-and-events/events/10
 83995/
END:VEVENT
END:VCALENDAR
