BEGIN:VCALENDAR
VERSION:2.0
PRODID:-//achurchnearyou.com//eventfeed//EN
CALSCALE:GREGORIAN
METHOD:PUBLISH
X-WR-TIMEZONE:UTC
BEGIN:VEVENT
SUMMARY:APCM
DTSTART:20260426T100000Z
DTEND:20260426T110000Z
DTSTAMP:20260425T130349Z
UID:11478752026-04-26 10:00:00+00:00achurchnearyou
CATEGORIES:
DESCRIPTION:To take place after the 10am service
GEO:-1.036987;51.41052
LOCATION:St Mary's Burghfield
URL:https://www.achurchnearyou.com/church/287/service-and-events/events/11
 47875/
END:VEVENT
END:VCALENDAR
