BEGIN:VCALENDAR
VERSION:2.0
PRODID:-//achurchnearyou.com//eventfeed//EN
CALSCALE:GREGORIAN
METHOD:PUBLISH
X-WR-TIMEZONE:UTC
BEGIN:VEVENT
SUMMARY:Funeral service
DTSTART:20260317T120000Z
DTEND:20260317T133000Z
DTSTAMP:20260425T162905Z
UID:12654692026-03-17 12:00:00+00:00achurchnearyou
CATEGORIES:
DESCRIPTION:Funeral service taking place in Church followed by burial in t
 he Parish Council Burial ground\nRIP Edith Monks
GEO:-1.036987;51.41052
LOCATION:St Mary's Burghfield
URL:https://www.achurchnearyou.com/church/287/service-and-events/events/12
 65469/
END:VEVENT
END:VCALENDAR
