BEGIN:VCALENDAR
VERSION:2.0
PRODID:-//achurchnearyou.com//eventfeed//EN
CALSCALE:GREGORIAN
METHOD:PUBLISH
X-WR-TIMEZONE:UTC
BEGIN:VEVENT
SUMMARY:Come & See Lent Course
DTSTART;TZID=Europe/London:20260223T140000
DTEND;TZID=Europe/London:20260223T153000
DTSTAMP:20260425T162857Z
UID:12854132026-02-23 14:00:00+00:00achurchnearyou
CATEGORIES:
DESCRIPTION:We will be holding two ‘Come and See’ groups during Lent\,
  each 5 weeks\, to discuss the group material. They will both take place a
 t my house\, The Rectory Hollybush Lane\, RG7 3JL. Anyone is welcome to co
 me and join in.\n\nMondays at 2pm – 3.30pm\n\nStarting 23rd February and
  2nd\, 9th\, 16th and 23rd March\n\nTuesdays 7.30-9.00pm\n\nStarting 24th 
 February and 3rd\, 10th\, 17th and 24th March\n\n\nWhile face to face grou
 ps are always better\, if people are interested in joining in via zoom on 
 the Tuesday nights then I could make that provision. Please let me know. R
 evd Glynn
LOCATION:The Rectory
URL:https://www.achurchnearyou.com/church/287/service-and-events/events/12
 85413/
END:VEVENT
BEGIN:VEVENT
SUMMARY:Come & See Lent Course
DTSTART;TZID=Europe/London:20260302T140000
DTEND;TZID=Europe/London:20260302T153000
DTSTAMP:20260425T162857Z
UID:12854132026-03-02 14:00:00+00:00achurchnearyou
CATEGORIES:
DESCRIPTION:We will be holding two ‘Come and See’ groups during Lent\,
  each 5 weeks\, to discuss the group material. They will both take place a
 t my house\, The Rectory Hollybush Lane\, RG7 3JL. Anyone is welcome to co
 me and join in.\n\nMondays at 2pm – 3.30pm\n\nStarting 23rd February and
  2nd\, 9th\, 16th and 23rd March\n\nTuesdays 7.30-9.00pm\n\nStarting 24th 
 February and 3rd\, 10th\, 17th and 24th March\n\n\nWhile face to face grou
 ps are always better\, if people are interested in joining in via zoom on 
 the Tuesday nights then I could make that provision. Please let me know. R
 evd Glynn
LOCATION:The Rectory
URL:https://www.achurchnearyou.com/church/287/service-and-events/events/12
 85413/
END:VEVENT
BEGIN:VEVENT
SUMMARY:Come & See Lent Course
DTSTART;TZID=Europe/London:20260309T140000
DTEND;TZID=Europe/London:20260309T153000
DTSTAMP:20260425T162857Z
UID:12854132026-03-09 14:00:00+00:00achurchnearyou
CATEGORIES:
DESCRIPTION:We will be holding two ‘Come and See’ groups during Lent\,
  each 5 weeks\, to discuss the group material. They will both take place a
 t my house\, The Rectory Hollybush Lane\, RG7 3JL. Anyone is welcome to co
 me and join in.\n\nMondays at 2pm – 3.30pm\n\nStarting 23rd February and
  2nd\, 9th\, 16th and 23rd March\n\nTuesdays 7.30-9.00pm\n\nStarting 24th 
 February and 3rd\, 10th\, 17th and 24th March\n\n\nWhile face to face grou
 ps are always better\, if people are interested in joining in via zoom on 
 the Tuesday nights then I could make that provision. Please let me know. R
 evd Glynn
LOCATION:The Rectory
URL:https://www.achurchnearyou.com/church/287/service-and-events/events/12
 85413/
END:VEVENT
BEGIN:VEVENT
SUMMARY:Come & See Lent Course
DTSTART;TZID=Europe/London:20260316T140000
DTEND;TZID=Europe/London:20260316T153000
DTSTAMP:20260425T162857Z
UID:12854132026-03-16 14:00:00+00:00achurchnearyou
CATEGORIES:
DESCRIPTION:We will be holding two ‘Come and See’ groups during Lent\,
  each 5 weeks\, to discuss the group material. They will both take place a
 t my house\, The Rectory Hollybush Lane\, RG7 3JL. Anyone is welcome to co
 me and join in.\n\nMondays at 2pm – 3.30pm\n\nStarting 23rd February and
  2nd\, 9th\, 16th and 23rd March\n\nTuesdays 7.30-9.00pm\n\nStarting 24th 
 February and 3rd\, 10th\, 17th and 24th March\n\n\nWhile face to face grou
 ps are always better\, if people are interested in joining in via zoom on 
 the Tuesday nights then I could make that provision. Please let me know. R
 evd Glynn
LOCATION:The Rectory
URL:https://www.achurchnearyou.com/church/287/service-and-events/events/12
 85413/
END:VEVENT
BEGIN:VEVENT
SUMMARY:Come & See Lent Course
DTSTART;TZID=Europe/London:20260323T140000
DTEND;TZID=Europe/London:20260323T153000
DTSTAMP:20260425T162857Z
UID:12854132026-03-23 14:00:00+00:00achurchnearyou
CATEGORIES:
DESCRIPTION:We will be holding two ‘Come and See’ groups during Lent\,
  each 5 weeks\, to discuss the group material. They will both take place a
 t my house\, The Rectory Hollybush Lane\, RG7 3JL. Anyone is welcome to co
 me and join in.\n\nMondays at 2pm – 3.30pm\n\nStarting 23rd February and
  2nd\, 9th\, 16th and 23rd March\n\nTuesdays 7.30-9.00pm\n\nStarting 24th 
 February and 3rd\, 10th\, 17th and 24th March\n\n\nWhile face to face grou
 ps are always better\, if people are interested in joining in via zoom on 
 the Tuesday nights then I could make that provision. Please let me know. R
 evd Glynn
LOCATION:The Rectory
URL:https://www.achurchnearyou.com/church/287/service-and-events/events/12
 85413/
END:VEVENT
END:VCALENDAR
