BEGIN:VCALENDAR
VERSION:2.0
PRODID:-//achurchnearyou.com//eventfeed//EN
CALSCALE:GREGORIAN
METHOD:PUBLISH
X-WR-TIMEZONE:UTC
BEGIN:VEVENT
SUMMARY:Deanery Synod meeting at Church
DTSTART:20260326T190000Z
DTEND:20260326T220000Z
DTSTAMP:20260425T144327Z
UID:13073452026-03-26 19:00:00+00:00achurchnearyou
CATEGORIES:
DESCRIPTION:The Deanery Synod are holding their meeting in the Church and 
 Parish Centre
GEO:-1.036987;51.41052
LOCATION:St Mary's Burghfield
URL:https://www.achurchnearyou.com/church/287/service-and-events/events/13
 07345/
END:VEVENT
END:VCALENDAR
