BEGIN:VCALENDAR
VERSION:2.0
PRODID:-//achurchnearyou.com//eventfeed//EN
CALSCALE:GREGORIAN
METHOD:PUBLISH
X-WR-TIMEZONE:UTC
BEGIN:VEVENT
SUMMARY:Combined Service of Holy Communion
DTSTART:20250629T090000Z
DTEND:20250629T100000Z
DTSTAMP:20260419T234320Z
UID:12082282025-06-29 09:00:00+00:00achurchnearyou
CATEGORIES:
DESCRIPTION:Our churches will be joining together today as some will be at
 tending the ordination of our new curate\, Karen Gower\, at Norwich Cathed
 ral.\nThis service will be led by Rev Fiona\, who was recently on placemen
 t with us from KL Minster
GEO:0.512391;52.844108
LOCATION:Dersingham: St Nicholas
URL:https://www.stnicholasdersingham.org.uk
END:VEVENT
END:VCALENDAR
