BEGIN:VCALENDAR
VERSION:2.0
PRODID:-//achurchnearyou.com//eventfeed//EN
CALSCALE:GREGORIAN
METHOD:PUBLISH
X-WR-TIMEZONE:UTC
BEGIN:VEVENT
SUMMARY:Sunday Service - All Saints\, Pusey
DTSTART;TZID=Europe/London:20260531T103000
DTEND;TZID=Europe/London:20260531T111500
DTSTAMP:20260423T084502Z
UID:8937911780219800.0achurchnearyou
CATEGORIES:
DESCRIPTION:This week’s Sunday Eucharist Service is in All Saints Church
  in Pusey at 10:30am.
GEO:-1.480659;51.666534
LOCATION:All Saints Pusey
URL:https://cherbury-gainfield.org.uk/whats-on-events/
END:VEVENT
BEGIN:VEVENT
SUMMARY:Sunday Service - All Saints\, Pusey
DTSTART;TZID=Europe/London:20260830T103000
DTEND;TZID=Europe/London:20260830T111500
DTSTAMP:20260423T084502Z
UID:8937911788082200.0achurchnearyou
CATEGORIES:
DESCRIPTION:This week’s Sunday Eucharist Service is in All Saints Church
  in Pusey at 10:30am.
GEO:-1.480659;51.666534
LOCATION:All Saints Pusey
URL:https://cherbury-gainfield.org.uk/whats-on-events/
END:VEVENT
END:VCALENDAR
