BEGIN:VCALENDAR
VERSION:2.0
PRODID:-//achurchnearyou.com//eventfeed//EN
CALSCALE:GREGORIAN
METHOD:PUBLISH
X-WR-TIMEZONE:UTC
BEGIN:VEVENT
SUMMARY:Sunday Service - St Margaret's church\, Hinton Waldrist
DTSTART:20250817T093000Z
DTEND:20250817T103000Z
DTSTAMP:20260424T150200Z
UID:12110622025-08-17 09:30:00+00:00achurchnearyou
CATEGORIES:
DESCRIPTION:This week’s Holy Communion will be in St Margaret’s church
  in Hinton Waldrist at 10:30am.
GEO:-1.458913;51.689544
LOCATION:St Margaret of Antioch\, Hinton Waldrist
URL:https://cherbury-gainfield.org.uk/whats-on-events/
END:VEVENT
END:VCALENDAR
