BEGIN:VCALENDAR
VERSION:2.0
PRODID:-//achurchnearyou.com//eventfeed//EN
CALSCALE:GREGORIAN
METHOD:PUBLISH
X-WR-TIMEZONE:UTC
BEGIN:VEVENT
SUMMARY:Flegg Churches Men's Group Social
DTSTART:20250818T180000Z
DTEND:20250818T200000Z
DTSTAMP:20260421T133639Z
UID:12165632025-08-18 18:00:00+00:00achurchnearyou
CATEGORIES:
DESCRIPTION:Join Flegg Churches Men's group for dinner at Planet Spice\, O
 rmesby. Call Andy/Matthew for booking or Rev Debs for  contact info on 079
 54 338902
LOCATION:Planet Spice Ormesby
URL:https://www.achurchnearyou.com/church/2883/service-and-events/events/1
 216563/
END:VEVENT
END:VCALENDAR
