BEGIN:VCALENDAR
VERSION:2.0
PRODID:-//achurchnearyou.com//eventfeed//EN
CALSCALE:GREGORIAN
METHOD:PUBLISH
X-WR-TIMEZONE:UTC
BEGIN:VEVENT
SUMMARY:Annual Parochial Church Meeting (APCM)
DTSTART:20260308T180000Z
DTEND:20260308T190000Z
DTSTAMP:20260421T002518Z
UID:12831562026-03-08 18:00:00+00:00achurchnearyou
CATEGORIES:
DESCRIPTION:The Annual Parochial Church Meeting will take place as part of
  the usual Sunday Church Service today - all welcome
GEO:1.583244;52.695947
LOCATION:St Peter and St Paul
URL:https://www.achurchnearyou.com/church/2883/service-and-events/events/1
 283156/
END:VEVENT
END:VCALENDAR
