BEGIN:VCALENDAR
VERSION:2.0
PRODID:-//achurchnearyou.com//eventfeed//EN
CALSCALE:GREGORIAN
METHOD:PUBLISH
X-WR-TIMEZONE:UTC
BEGIN:VEVENT
SUMMARY:Good Friday Meditation
DTSTART:20250418T140000Z
DTEND:20250418T150000Z
DTSTAMP:20260425T113200Z
UID:11828502025-04-18 14:00:00+00:00achurchnearyou
CATEGORIES:
DESCRIPTION:A service of readings\, quiet\, choir pieces and hymns to reme
 mber Good Friday\, Jesus' journey to death on the Cross.
GEO:-1.251018;51.611346
LOCATION:Didcot: All Saints
URL:https://www.achurchnearyou.com/church/2892/service-and-events/events/1
 182850/
END:VEVENT
END:VCALENDAR
