BEGIN:VCALENDAR
VERSION:2.0
PRODID:-//achurchnearyou.com//eventfeed//EN
CALSCALE:GREGORIAN
METHOD:PUBLISH
X-WR-TIMEZONE:UTC
BEGIN:VEVENT
SUMMARY:Eucharist for Easter Day
DTSTART:20260405T100000Z
DTEND:20260405T111500Z
DTSTAMP:20260425T023113Z
UID:13169482026-04-05 10:00:00+00:00achurchnearyou
CATEGORIES:
DESCRIPTION:Join us as we celebrate the resurrection of Jesus from the dea
 d. We receive the Easter Candle\, renew our Baptismal vows and share in th
 e bread and wine of Communion.
GEO:-1.166761;52.666798
LOCATION:Christ the King\, Beaumont Leys (CtK)
URL:https://www.achurchnearyou.com/church/2908/service-and-events/events/1
 316948/
END:VEVENT
END:VCALENDAR
