BEGIN:VCALENDAR
VERSION:2.0
PRODID:-//achurchnearyou.com//eventfeed//EN
CALSCALE:GREGORIAN
METHOD:PUBLISH
X-WR-TIMEZONE:UTC
BEGIN:VEVENT
SUMMARY:Harvest Festival
DTSTART:20251005T160000Z
DTEND:20251005T170000Z
DTSTAMP:20260424T025902Z
UID:12271172025-10-05 16:00:00+00:00achurchnearyou
CATEGORIES:
DESCRIPTION:All welcome
LOCATION:Noke: St Giles
URL:https://www.achurchnearyou.com/church/294/service-and-events/events/12
 27117/
END:VEVENT
END:VCALENDAR
