BEGIN:VCALENDAR
VERSION:2.0
PRODID:-//achurchnearyou.com//eventfeed//EN
CALSCALE:GREGORIAN
METHOD:PUBLISH
X-WR-TIMEZONE:UTC
BEGIN:VEVENT
SUMMARY:Choral Evensong
DTSTART:20251123T103000Z
DTEND:20251123T113000Z
DTSTAMP:20260423T235630Z
UID:12345672025-11-23 10:30:00+00:00achurchnearyou
CATEGORIES:
DESCRIPTION:All welcome.
GEO:-1.237486;51.823014
LOCATION:St Nicholas\, Islip
URL:https://www.achurchnearyou.com/church/294/service-and-events/events/12
 34567/
END:VEVENT
END:VCALENDAR
