BEGIN:VCALENDAR
VERSION:2.0
PRODID:-//achurchnearyou.com//eventfeed//EN
CALSCALE:GREGORIAN
METHOD:PUBLISH
X-WR-TIMEZONE:UTC
BEGIN:VEVENT
SUMMARY:Good Friday United Service
DTSTART:20260403T093000Z
DTEND:20260403T104500Z
DTSTAMP:20260423T084847Z
UID:12898392026-04-03 09:30:00+00:00achurchnearyou
CATEGORIES:
DESCRIPTION:Joint Churches Together in the Newbury Area service.
LOCATION:St Nicolas Newbury
URL:https://www.achurchnearyou.com/church/295/service-and-events/events/12
 89839/
END:VEVENT
END:VCALENDAR
