BEGIN:VCALENDAR
VERSION:2.0
PRODID:-//achurchnearyou.com//eventfeed//EN
CALSCALE:GREGORIAN
METHOD:PUBLISH
X-WR-TIMEZONE:UTC
BEGIN:VEVENT
SUMMARY:'Back to School' All Age Celebration
DTSTART:20250831T090000Z
DTEND:20250831T100000Z
DTSTAMP:20260424T193346Z
UID:9643062025-08-31 09:00:00+00:00achurchnearyou
CATEGORIES:
DESCRIPTION:This service has become a St Nic’s tradition on the Sunday b
 efore term starts again. It’s a service for all ages as we prepare not o
 nly to go back to school\, but for all of the ‘normal’ routines of lif
 e after the summer.
GEO:-1.324743;51.400986
LOCATION:St Nicolas Newbury
URL:https://www.achurchnearyou.com/church/295/service-and-events/events/96
 4306/
END:VEVENT
END:VCALENDAR
