BEGIN:VCALENDAR
VERSION:2.0
PRODID:-//achurchnearyou.com//eventfeed//EN
CALSCALE:GREGORIAN
METHOD:PUBLISH
X-WR-TIMEZONE:UTC
BEGIN:VEVENT
SUMMARY:Over 60s Thursdays
DTSTART;TZID=Europe/London:20260402T110000
DTEND;TZID=Europe/London:20260402T150000
DTSTAMP:20260426T051715Z
UID:10758631775124000.0achurchnearyou
CATEGORIES:
DESCRIPTION:On Thursdays we host our local Over 60s Group at St Edmunds.  
 It is a very friendly group and everyone is welcome (you don't have to be 
 over 60!). \n\nEvery other Thursday we have a seated exercise class called
  Steady\, Strong and Able which is great fun\, starts at 11am. \n\nWe then
  have lunch from 12noon where you can have a 2 course meal for £5pp (it h
 elps if you can book in advance).\n\nThen after lunch they have bingo\, wh
 ere you win cash prizes for a line or a house!  They also have a prize raf
 fle.
GEO:0.228204;51.444528
LOCATION:Dartford: St Alban\nDartford: St Edmund King & Martyr
URL:https://www.achurchnearyou.com/church/9883/service-and-events/events/1
 075863/
END:VEVENT
BEGIN:VEVENT
SUMMARY:Thursday Lunch @ St Edmund's Church
DTSTART;TZID=Europe/London:20260402T120000
DTEND;TZID=Europe/London:20260402T133000
DTSTAMP:20260426T051715Z
UID:10754521775127600.0achurchnearyou
CATEGORIES:
DESCRIPTION:Join us for lunch on Thursdays at 12noon.  £5pp for a 2 cours
 e meal with our friendly Over 60s group.  You can even stay for Bingo afte
 rwards!
GEO:0.228813;51.453204
LOCATION:Dartford: St Alban\nDartford: St Edmund King & Martyr
URL:https://www.achurchnearyou.com/church/9884/service-and-events/events/1
 075452/
END:VEVENT
BEGIN:VEVENT
SUMMARY:Over 60s Thursdays
DTSTART;TZID=Europe/London:20260409T110000
DTEND;TZID=Europe/London:20260409T150000
DTSTAMP:20260426T051715Z
UID:10758631775728800.0achurchnearyou
CATEGORIES:
DESCRIPTION:On Thursdays we host our local Over 60s Group at St Edmunds.  
 It is a very friendly group and everyone is welcome (you don't have to be 
 over 60!). \n\nEvery other Thursday we have a seated exercise class called
  Steady\, Strong and Able which is great fun\, starts at 11am. \n\nWe then
  have lunch from 12noon where you can have a 2 course meal for £5pp (it h
 elps if you can book in advance).\n\nThen after lunch they have bingo\, wh
 ere you win cash prizes for a line or a house!  They also have a prize raf
 fle.
GEO:0.228204;51.444528
LOCATION:Dartford: St Alban\nDartford: St Edmund King & Martyr
URL:https://www.achurchnearyou.com/church/9883/service-and-events/events/1
 075863/
END:VEVENT
BEGIN:VEVENT
SUMMARY:Thursday Lunch @ St Edmund's Church
DTSTART;TZID=Europe/London:20260409T120000
DTEND;TZID=Europe/London:20260409T133000
DTSTAMP:20260426T051716Z
UID:10754521775732400.0achurchnearyou
CATEGORIES:
DESCRIPTION:Join us for lunch on Thursdays at 12noon.  £5pp for a 2 cours
 e meal with our friendly Over 60s group.  You can even stay for Bingo afte
 rwards!
GEO:0.228813;51.453204
LOCATION:Dartford: St Alban\nDartford: St Edmund King & Martyr
URL:https://www.achurchnearyou.com/church/9884/service-and-events/events/1
 075452/
END:VEVENT
BEGIN:VEVENT
SUMMARY:Over 60s Thursdays
DTSTART;TZID=Europe/London:20260416T110000
DTEND;TZID=Europe/London:20260416T150000
DTSTAMP:20260426T051716Z
UID:10758631776333600.0achurchnearyou
CATEGORIES:
DESCRIPTION:On Thursdays we host our local Over 60s Group at St Edmunds.  
 It is a very friendly group and everyone is welcome (you don't have to be 
 over 60!). \n\nEvery other Thursday we have a seated exercise class called
  Steady\, Strong and Able which is great fun\, starts at 11am. \n\nWe then
  have lunch from 12noon where you can have a 2 course meal for £5pp (it h
 elps if you can book in advance).\n\nThen after lunch they have bingo\, wh
 ere you win cash prizes for a line or a house!  They also have a prize raf
 fle.
GEO:0.228204;51.444528
LOCATION:Dartford: St Alban\nDartford: St Edmund King & Martyr
URL:https://www.achurchnearyou.com/church/9883/service-and-events/events/1
 075863/
END:VEVENT
BEGIN:VEVENT
SUMMARY:Thursday Lunch @ St Edmund's Church
DTSTART;TZID=Europe/London:20260416T120000
DTEND;TZID=Europe/London:20260416T133000
DTSTAMP:20260426T051716Z
UID:10754521776337200.0achurchnearyou
CATEGORIES:
DESCRIPTION:Join us for lunch on Thursdays at 12noon.  £5pp for a 2 cours
 e meal with our friendly Over 60s group.  You can even stay for Bingo afte
 rwards!
GEO:0.228813;51.453204
LOCATION:Dartford: St Alban\nDartford: St Edmund King & Martyr
URL:https://www.achurchnearyou.com/church/9884/service-and-events/events/1
 075452/
END:VEVENT
BEGIN:VEVENT
SUMMARY:Over 60s Thursdays
DTSTART;TZID=Europe/London:20260423T110000
DTEND;TZID=Europe/London:20260423T150000
DTSTAMP:20260426T051716Z
UID:10758631776938400.0achurchnearyou
CATEGORIES:
DESCRIPTION:On Thursdays we host our local Over 60s Group at St Edmunds.  
 It is a very friendly group and everyone is welcome (you don't have to be 
 over 60!). \n\nEvery other Thursday we have a seated exercise class called
  Steady\, Strong and Able which is great fun\, starts at 11am. \n\nWe then
  have lunch from 12noon where you can have a 2 course meal for £5pp (it h
 elps if you can book in advance).\n\nThen after lunch they have bingo\, wh
 ere you win cash prizes for a line or a house!  They also have a prize raf
 fle.
GEO:0.228204;51.444528
LOCATION:Dartford: St Alban\nDartford: St Edmund King & Martyr
URL:https://www.achurchnearyou.com/church/9883/service-and-events/events/1
 075863/
END:VEVENT
BEGIN:VEVENT
SUMMARY:Thursday Lunch @ St Edmund's Church
DTSTART;TZID=Europe/London:20260423T120000
DTEND;TZID=Europe/London:20260423T133000
DTSTAMP:20260426T051716Z
UID:10754521776942000.0achurchnearyou
CATEGORIES:
DESCRIPTION:Join us for lunch on Thursdays at 12noon.  £5pp for a 2 cours
 e meal with our friendly Over 60s group.  You can even stay for Bingo afte
 rwards!
GEO:0.228813;51.453204
LOCATION:Dartford: St Alban\nDartford: St Edmund King & Martyr
URL:https://www.achurchnearyou.com/church/9884/service-and-events/events/1
 075452/
END:VEVENT
BEGIN:VEVENT
SUMMARY:Over 60s Thursdays
DTSTART;TZID=Europe/London:20260430T110000
DTEND;TZID=Europe/London:20260430T150000
DTSTAMP:20260426T051716Z
UID:10758631777543200.0achurchnearyou
CATEGORIES:
DESCRIPTION:On Thursdays we host our local Over 60s Group at St Edmunds.  
 It is a very friendly group and everyone is welcome (you don't have to be 
 over 60!). \n\nEvery other Thursday we have a seated exercise class called
  Steady\, Strong and Able which is great fun\, starts at 11am. \n\nWe then
  have lunch from 12noon where you can have a 2 course meal for £5pp (it h
 elps if you can book in advance).\n\nThen after lunch they have bingo\, wh
 ere you win cash prizes for a line or a house!  They also have a prize raf
 fle.
GEO:0.228204;51.444528
LOCATION:Dartford: St Alban\nDartford: St Edmund King & Martyr
URL:https://www.achurchnearyou.com/church/9883/service-and-events/events/1
 075863/
END:VEVENT
BEGIN:VEVENT
SUMMARY:Thursday Lunch @ St Edmund's Church
DTSTART;TZID=Europe/London:20260430T120000
DTEND;TZID=Europe/London:20260430T133000
DTSTAMP:20260426T051716Z
UID:10754521777546800.0achurchnearyou
CATEGORIES:
DESCRIPTION:Join us for lunch on Thursdays at 12noon.  £5pp for a 2 cours
 e meal with our friendly Over 60s group.  You can even stay for Bingo afte
 rwards!
GEO:0.228813;51.453204
LOCATION:Dartford: St Alban\nDartford: St Edmund King & Martyr
URL:https://www.achurchnearyou.com/church/9884/service-and-events/events/1
 075452/
END:VEVENT
BEGIN:VEVENT
SUMMARY:Over 60s Thursdays
DTSTART;TZID=Europe/London:20260507T110000
DTEND;TZID=Europe/London:20260507T150000
DTSTAMP:20260426T051716Z
UID:10758631778148000.0achurchnearyou
CATEGORIES:
DESCRIPTION:On Thursdays we host our local Over 60s Group at St Edmunds.  
 It is a very friendly group and everyone is welcome (you don't have to be 
 over 60!). \n\nEvery other Thursday we have a seated exercise class called
  Steady\, Strong and Able which is great fun\, starts at 11am. \n\nWe then
  have lunch from 12noon where you can have a 2 course meal for £5pp (it h
 elps if you can book in advance).\n\nThen after lunch they have bingo\, wh
 ere you win cash prizes for a line or a house!  They also have a prize raf
 fle.
GEO:0.228204;51.444528
LOCATION:Dartford: St Alban\nDartford: St Edmund King & Martyr
URL:https://www.achurchnearyou.com/church/9883/service-and-events/events/1
 075863/
END:VEVENT
BEGIN:VEVENT
SUMMARY:Thursday Lunch @ St Edmund's Church
DTSTART;TZID=Europe/London:20260507T120000
DTEND;TZID=Europe/London:20260507T133000
DTSTAMP:20260426T051716Z
UID:10754521778151600.0achurchnearyou
CATEGORIES:
DESCRIPTION:Join us for lunch on Thursdays at 12noon.  £5pp for a 2 cours
 e meal with our friendly Over 60s group.  You can even stay for Bingo afte
 rwards!
GEO:0.228813;51.453204
LOCATION:Dartford: St Alban\nDartford: St Edmund King & Martyr
URL:https://www.achurchnearyou.com/church/9884/service-and-events/events/1
 075452/
END:VEVENT
BEGIN:VEVENT
SUMMARY:Over 60s Thursdays
DTSTART;TZID=Europe/London:20260514T110000
DTEND;TZID=Europe/London:20260514T150000
DTSTAMP:20260426T051716Z
UID:10758631778752800.0achurchnearyou
CATEGORIES:
DESCRIPTION:On Thursdays we host our local Over 60s Group at St Edmunds.  
 It is a very friendly group and everyone is welcome (you don't have to be 
 over 60!). \n\nEvery other Thursday we have a seated exercise class called
  Steady\, Strong and Able which is great fun\, starts at 11am. \n\nWe then
  have lunch from 12noon where you can have a 2 course meal for £5pp (it h
 elps if you can book in advance).\n\nThen after lunch they have bingo\, wh
 ere you win cash prizes for a line or a house!  They also have a prize raf
 fle.
GEO:0.228204;51.444528
LOCATION:Dartford: St Alban\nDartford: St Edmund King & Martyr
URL:https://www.achurchnearyou.com/church/9883/service-and-events/events/1
 075863/
END:VEVENT
BEGIN:VEVENT
SUMMARY:Thursday Lunch @ St Edmund's Church
DTSTART;TZID=Europe/London:20260514T120000
DTEND;TZID=Europe/London:20260514T133000
DTSTAMP:20260426T051716Z
UID:10754521778756400.0achurchnearyou
CATEGORIES:
DESCRIPTION:Join us for lunch on Thursdays at 12noon.  £5pp for a 2 cours
 e meal with our friendly Over 60s group.  You can even stay for Bingo afte
 rwards!
GEO:0.228813;51.453204
LOCATION:Dartford: St Alban\nDartford: St Edmund King & Martyr
URL:https://www.achurchnearyou.com/church/9884/service-and-events/events/1
 075452/
END:VEVENT
BEGIN:VEVENT
SUMMARY:Over 60s Thursdays
DTSTART;TZID=Europe/London:20260521T110000
DTEND;TZID=Europe/London:20260521T150000
DTSTAMP:20260426T051716Z
UID:10758631779357600.0achurchnearyou
CATEGORIES:
DESCRIPTION:On Thursdays we host our local Over 60s Group at St Edmunds.  
 It is a very friendly group and everyone is welcome (you don't have to be 
 over 60!). \n\nEvery other Thursday we have a seated exercise class called
  Steady\, Strong and Able which is great fun\, starts at 11am. \n\nWe then
  have lunch from 12noon where you can have a 2 course meal for £5pp (it h
 elps if you can book in advance).\n\nThen after lunch they have bingo\, wh
 ere you win cash prizes for a line or a house!  They also have a prize raf
 fle.
GEO:0.228204;51.444528
LOCATION:Dartford: St Alban\nDartford: St Edmund King & Martyr
URL:https://www.achurchnearyou.com/church/9883/service-and-events/events/1
 075863/
END:VEVENT
BEGIN:VEVENT
SUMMARY:Thursday Lunch @ St Edmund's Church
DTSTART;TZID=Europe/London:20260521T120000
DTEND;TZID=Europe/London:20260521T133000
DTSTAMP:20260426T051716Z
UID:10754521779361200.0achurchnearyou
CATEGORIES:
DESCRIPTION:Join us for lunch on Thursdays at 12noon.  £5pp for a 2 cours
 e meal with our friendly Over 60s group.  You can even stay for Bingo afte
 rwards!
GEO:0.228813;51.453204
LOCATION:Dartford: St Alban\nDartford: St Edmund King & Martyr
URL:https://www.achurchnearyou.com/church/9884/service-and-events/events/1
 075452/
END:VEVENT
BEGIN:VEVENT
SUMMARY:Over 60s Thursdays
DTSTART;TZID=Europe/London:20260528T110000
DTEND;TZID=Europe/London:20260528T150000
DTSTAMP:20260426T051716Z
UID:10758631779962400.0achurchnearyou
CATEGORIES:
DESCRIPTION:On Thursdays we host our local Over 60s Group at St Edmunds.  
 It is a very friendly group and everyone is welcome (you don't have to be 
 over 60!). \n\nEvery other Thursday we have a seated exercise class called
  Steady\, Strong and Able which is great fun\, starts at 11am. \n\nWe then
  have lunch from 12noon where you can have a 2 course meal for £5pp (it h
 elps if you can book in advance).\n\nThen after lunch they have bingo\, wh
 ere you win cash prizes for a line or a house!  They also have a prize raf
 fle.
GEO:0.228204;51.444528
LOCATION:Dartford: St Alban\nDartford: St Edmund King & Martyr
URL:https://www.achurchnearyou.com/church/9883/service-and-events/events/1
 075863/
END:VEVENT
BEGIN:VEVENT
SUMMARY:Thursday Lunch @ St Edmund's Church
DTSTART;TZID=Europe/London:20260528T120000
DTEND;TZID=Europe/London:20260528T133000
DTSTAMP:20260426T051716Z
UID:10754521779966000.0achurchnearyou
CATEGORIES:
DESCRIPTION:Join us for lunch on Thursdays at 12noon.  £5pp for a 2 cours
 e meal with our friendly Over 60s group.  You can even stay for Bingo afte
 rwards!
GEO:0.228813;51.453204
LOCATION:Dartford: St Alban\nDartford: St Edmund King & Martyr
URL:https://www.achurchnearyou.com/church/9884/service-and-events/events/1
 075452/
END:VEVENT
END:VCALENDAR
