BEGIN:VCALENDAR
VERSION:2.0
PRODID:-//achurchnearyou.com//eventfeed//EN
CALSCALE:GREGORIAN
METHOD:PUBLISH
X-WR-TIMEZONE:UTC
BEGIN:VEVENT
SUMMARY:Daybreak Service and Baptism
DTSTART:20260405T053000Z
DTEND:20260405T061500Z
DTSTAMP:20260421T222254Z
UID:13201362026-04-05 05:30:00+00:00achurchnearyou
CATEGORIES:
DESCRIPTION:Start your Easter celebration in a memorable way beside Semerw
 ater in beautiful Raydale. Our annual daybreak service with BBQ fish and f
 resh bread and immersion Baptism!
GEO:-2.08149;54.314836
LOCATION:Askrigg: St Oswald's\nHawes: St Margaret\nHardraw: St Mary & St J
 ohn\nStalling Busk: St Matthew
URL:http://www.upperwensleydalechurch.org
END:VEVENT
END:VCALENDAR
