BEGIN:VCALENDAR
VERSION:2.0
PRODID:-//achurchnearyou.com//eventfeed//EN
CALSCALE:GREGORIAN
METHOD:PUBLISH
X-WR-TIMEZONE:UTC
BEGIN:VEVENT
SUMMARY:MONDAY FIRST
DTSTART:20250428T130000Z
DTEND:20250428T140000Z
DTSTAMP:20260420T055109Z
UID:10942112025-04-28 13:00:00+00:00achurchnearyou
CATEGORIES:
DESCRIPTION:Our monthly informal worship for the community at Dene Park Co
 mmunity Centre where there will be discussion\, prayer and creative activi
 ties\n\nEach monthly event will have a set theme\n\nCoffee and cake provid
 ed\n\nAll welcome
LOCATION:Dene Park Community Centre
URL:https://www.achurchnearyou.com/church/3176/service-and-events/events/1
 094211/
END:VEVENT
END:VCALENDAR
