BEGIN:VCALENDAR
VERSION:2.0
PRODID:-//achurchnearyou.com//eventfeed//EN
CALSCALE:GREGORIAN
METHOD:PUBLISH
X-WR-TIMEZONE:UTC
BEGIN:VEVENT
SUMMARY:Ladies Cream Tea Event
DTSTART:20250913T140000Z
DTEND:20250913T153000Z
DTSTAMP:20260420T003725Z
UID:12136612025-09-13 14:00:00+00:00achurchnearyou
CATEGORIES:
DESCRIPTION:Come join us for a delightful afternoon at St John's Church fo
 r a traditional cream tea experience. Indulge in scones\, clotted cream\, 
 jam\, tea and a glass of prosecco or elderflower cordial. This event is th
 e perfect opportunity to socialise with friends old and new\, and enjoy so
 me delicious treats\, accompanied by Sarah Fox on piano. Don't miss out on
  this chance to treat yourself - reserve your spot today! All ages are wel
 come.\n\nAll profits going to The Green Team Projects.\n\n\nTo buy your ti
 ckets visit Eventbrite below
GEO:-1.536506;54.008082
LOCATION:St John's Bilton
URL:https://www.eventbrite.co.uk/e/ladies-cream-tea-tickets-1488560387189
END:VEVENT
END:VCALENDAR
