BEGIN:VCALENDAR
VERSION:2.0
PRODID:-//achurchnearyou.com//eventfeed//EN
CALSCALE:GREGORIAN
METHOD:PUBLISH
X-WR-TIMEZONE:UTC
BEGIN:VEVENT
SUMMARY:Advent Carol Service
DTSTART:20251130T183000Z
DTEND:20251130T193000Z
DTSTAMP:20260419T171605Z
UID:12479792025-11-30 18:30:00+00:00achurchnearyou
CATEGORIES:
DESCRIPTION:A lovely traditional Advent Carol Service\n\nListen to St John
 's wonderful choir\, sing great hymns and hear God's word\n\nMulled wine a
 nd mince pies after the service
GEO:-1.536506;54.008082
LOCATION:St John's Bilton
URL:https://www.achurchnearyou.com/church/3176/service-and-events/events/1
 247979/
END:VEVENT
END:VCALENDAR
