BEGIN:VCALENDAR
VERSION:2.0
PRODID:-//achurchnearyou.com//eventfeed//EN
CALSCALE:GREGORIAN
METHOD:PUBLISH
X-WR-TIMEZONE:UTC
BEGIN:VEVENT
SUMMARY:Christmas Carol Service
DTSTART:20251207T140000Z
DTEND:20251207T150000Z
DTSTAMP:20260419T171657Z
UID:12520302025-12-07 14:00:00+00:00achurchnearyou
CATEGORIES:
DESCRIPTION:A traditional Christmas Carol Service\n\nCakes and hot drinks 
 available\n\nEveryone welcome
LOCATION:Dene Park Community Centre
URL:https://www.achurchnearyou.com/church/3176/service-and-events/events/1
 252030/
END:VEVENT
END:VCALENDAR
