BEGIN:VCALENDAR
VERSION:2.0
PRODID:-//achurchnearyou.com//eventfeed//EN
CALSCALE:GREGORIAN
METHOD:PUBLISH
X-WR-TIMEZONE:UTC
BEGIN:VEVENT
SUMMARY:COFFEE & CAKE MORNING AT ST JOHN'S CHURCH FRIDAY 1 MAY 10.00 TO 12
 .15
DTSTART;TZID=Europe/London:20260501T100000
DTEND;TZID=Europe/London:20260501T121500
DTSTAMP:20260422T094730Z
UID:13231982026-05-01 10:00:00+01:00achurchnearyou
CATEGORIES:
DESCRIPTION:This is a community event for the whole village and we will be
  celebrating our 12th birthday.  Come and join us for a Coffee or Tea with
  free refills and Homemade cake or Scone (Savoury Option Available).  £4
GEO:-1.498733;54.088534
LOCATION:Bishop Monkton: St John the Baptist
URL:https://www.achurchnearyou.com/church/3178/service-and-events/events/1
 323198/
END:VEVENT
END:VCALENDAR
