BEGIN:VCALENDAR
VERSION:2.0
PRODID:-//achurchnearyou.com//eventfeed//EN
CALSCALE:GREGORIAN
METHOD:PUBLISH
X-WR-TIMEZONE:UTC
BEGIN:VEVENT
SUMMARY:Pilgrims Progress - A shared journey through Lent - Christians Tog
 ether Lent Group
DTSTART;TZID=Europe/London:20250312T123000
DTEND;TZID=Europe/London:20250312T150000
DTSTAMP:20260420T082857Z
UID:11665062025-03-12 12:30:00+00:00achurchnearyou
CATEGORIES:
DESCRIPTION:The meetings will start at 1.30pm\, but everyone is invited to
  come from 12.30pm with a packed lunch to enjoy fellowship before the meet
 ings. ( tea\, coffee\, soft drinks will be provided) Wednesday 12th March\
 nScorton Methodist Chapel - from 12.30pm\n\nWednesday 19th March \nSt Paul
 s Hub\, Brompton On Swale - from 12.30pm\n\nWednesday 26th March \n Scorto
 n Methodist Chapel -  from 12.30pm\n\nWednesday 2nd April\nSt Pauls Hub\, 
 Brompton On Swale - from 12.30pm\n\nWednesday 9th April\nScorton Methodist
  Chapel - from 12.30pm\n\nWednesday 16th April - \nSt Paul’s Hub\, Bromp
 ton On Swale - from 12.30pm
URL:https://www.achurchnearyou.com/church/3198/service-and-events/events/1
 166506/
END:VEVENT
BEGIN:VEVENT
SUMMARY:Pilgrims Progress - A shared journey through Lent - Christians Tog
 ether Lent Group
DTSTART;TZID=Europe/London:20250319T123000
DTEND;TZID=Europe/London:20250319T150000
DTSTAMP:20260420T082857Z
UID:11665062025-03-19 12:30:00+00:00achurchnearyou
CATEGORIES:
DESCRIPTION:The meetings will start at 1.30pm\, but everyone is invited to
  come from 12.30pm with a packed lunch to enjoy fellowship before the meet
 ings. ( tea\, coffee\, soft drinks will be provided) Wednesday 12th March\
 nScorton Methodist Chapel - from 12.30pm\n\nWednesday 19th March \nSt Paul
 s Hub\, Brompton On Swale - from 12.30pm\n\nWednesday 26th March \n Scorto
 n Methodist Chapel -  from 12.30pm\n\nWednesday 2nd April\nSt Pauls Hub\, 
 Brompton On Swale - from 12.30pm\n\nWednesday 9th April\nScorton Methodist
  Chapel - from 12.30pm\n\nWednesday 16th April - \nSt Paul’s Hub\, Bromp
 ton On Swale - from 12.30pm
URL:https://www.achurchnearyou.com/church/3198/service-and-events/events/1
 166506/
END:VEVENT
BEGIN:VEVENT
SUMMARY:Pilgrims Progress - A shared journey through Lent - Christians Tog
 ether Lent Group
DTSTART;TZID=Europe/London:20250326T123000
DTEND;TZID=Europe/London:20250326T150000
DTSTAMP:20260420T082857Z
UID:11665062025-03-26 12:30:00+00:00achurchnearyou
CATEGORIES:
DESCRIPTION:The meetings will start at 1.30pm\, but everyone is invited to
  come from 12.30pm with a packed lunch to enjoy fellowship before the meet
 ings. ( tea\, coffee\, soft drinks will be provided) Wednesday 12th March\
 nScorton Methodist Chapel - from 12.30pm\n\nWednesday 19th March \nSt Paul
 s Hub\, Brompton On Swale - from 12.30pm\n\nWednesday 26th March \n Scorto
 n Methodist Chapel -  from 12.30pm\n\nWednesday 2nd April\nSt Pauls Hub\, 
 Brompton On Swale - from 12.30pm\n\nWednesday 9th April\nScorton Methodist
  Chapel - from 12.30pm\n\nWednesday 16th April - \nSt Paul’s Hub\, Bromp
 ton On Swale - from 12.30pm
URL:https://www.achurchnearyou.com/church/3198/service-and-events/events/1
 166506/
END:VEVENT
BEGIN:VEVENT
SUMMARY:Pilgrims Progress - A shared journey through Lent - Christians Tog
 ether Lent Group
DTSTART;TZID=Europe/London:20250402T123000
DTEND;TZID=Europe/London:20250402T150000
DTSTAMP:20260420T082857Z
UID:11665062025-04-02 12:30:00+01:00achurchnearyou
CATEGORIES:
DESCRIPTION:The meetings will start at 1.30pm\, but everyone is invited to
  come from 12.30pm with a packed lunch to enjoy fellowship before the meet
 ings. ( tea\, coffee\, soft drinks will be provided) Wednesday 12th March\
 nScorton Methodist Chapel - from 12.30pm\n\nWednesday 19th March \nSt Paul
 s Hub\, Brompton On Swale - from 12.30pm\n\nWednesday 26th March \n Scorto
 n Methodist Chapel -  from 12.30pm\n\nWednesday 2nd April\nSt Pauls Hub\, 
 Brompton On Swale - from 12.30pm\n\nWednesday 9th April\nScorton Methodist
  Chapel - from 12.30pm\n\nWednesday 16th April - \nSt Paul’s Hub\, Bromp
 ton On Swale - from 12.30pm
URL:https://www.achurchnearyou.com/church/3198/service-and-events/events/1
 166506/
END:VEVENT
BEGIN:VEVENT
SUMMARY:Pilgrims Progress - A shared journey through Lent - Christians Tog
 ether Lent Group
DTSTART;TZID=Europe/London:20250409T123000
DTEND;TZID=Europe/London:20250409T150000
DTSTAMP:20260420T082857Z
UID:11665062025-04-09 12:30:00+01:00achurchnearyou
CATEGORIES:
DESCRIPTION:The meetings will start at 1.30pm\, but everyone is invited to
  come from 12.30pm with a packed lunch to enjoy fellowship before the meet
 ings. ( tea\, coffee\, soft drinks will be provided) Wednesday 12th March\
 nScorton Methodist Chapel - from 12.30pm\n\nWednesday 19th March \nSt Paul
 s Hub\, Brompton On Swale - from 12.30pm\n\nWednesday 26th March \n Scorto
 n Methodist Chapel -  from 12.30pm\n\nWednesday 2nd April\nSt Pauls Hub\, 
 Brompton On Swale - from 12.30pm\n\nWednesday 9th April\nScorton Methodist
  Chapel - from 12.30pm\n\nWednesday 16th April - \nSt Paul’s Hub\, Bromp
 ton On Swale - from 12.30pm
URL:https://www.achurchnearyou.com/church/3198/service-and-events/events/1
 166506/
END:VEVENT
BEGIN:VEVENT
SUMMARY:Pilgrims Progress - A shared journey through Lent - Christians Tog
 ether Lent Group
DTSTART;TZID=Europe/London:20250416T123000
DTEND;TZID=Europe/London:20250416T150000
DTSTAMP:20260420T082857Z
UID:11665062025-04-16 12:30:00+01:00achurchnearyou
CATEGORIES:
DESCRIPTION:The meetings will start at 1.30pm\, but everyone is invited to
  come from 12.30pm with a packed lunch to enjoy fellowship before the meet
 ings. ( tea\, coffee\, soft drinks will be provided) Wednesday 12th March\
 nScorton Methodist Chapel - from 12.30pm\n\nWednesday 19th March \nSt Paul
 s Hub\, Brompton On Swale - from 12.30pm\n\nWednesday 26th March \n Scorto
 n Methodist Chapel -  from 12.30pm\n\nWednesday 2nd April\nSt Pauls Hub\, 
 Brompton On Swale - from 12.30pm\n\nWednesday 9th April\nScorton Methodist
  Chapel - from 12.30pm\n\nWednesday 16th April - \nSt Paul’s Hub\, Bromp
 ton On Swale - from 12.30pm
URL:https://www.achurchnearyou.com/church/3198/service-and-events/events/1
 166506/
END:VEVENT
END:VCALENDAR
