BEGIN:VCALENDAR
VERSION:2.0
PRODID:-//achurchnearyou.com//eventfeed//EN
CALSCALE:GREGORIAN
METHOD:PUBLISH
X-WR-TIMEZONE:UTC
BEGIN:VEVENT
SUMMARY:Said Service of Holy Communion
DTSTART:20250907T080000Z
DTEND:20250907T090000Z
DTSTAMP:20260419T232156Z
UID:12200312025-09-07 08:00:00+00:00achurchnearyou
CATEGORIES:
DESCRIPTION:All are welcome - short 40minute service - no hymns
GEO:-1.715777;54.397512
LOCATION:Easby: St Agatha
URL:https://www.achurchnearyou.com/church/3198/service-and-events/events/1
 220031/
END:VEVENT
END:VCALENDAR
