BEGIN:VCALENDAR
VERSION:2.0
PRODID:-//achurchnearyou.com//eventfeed//EN
CALSCALE:GREGORIAN
METHOD:PUBLISH
X-WR-TIMEZONE:UTC
BEGIN:VEVENT
SUMMARY:Service of Morning Worship
DTSTART:20250921T093000Z
DTEND:20250921T103000Z
DTSTAMP:20260419T232031Z
UID:12200432025-09-21 09:30:00+00:00achurchnearyou
CATEGORIES:
DESCRIPTION:All\, are welcome.
LOCATION:Brompton-on-Swale: St Paul
URL:https://www.achurchnearyou.com/church/3198/service-and-events/events/1
 220043/
END:VEVENT
END:VCALENDAR
