BEGIN:VCALENDAR
VERSION:2.0
PRODID:-//achurchnearyou.com//eventfeed//EN
CALSCALE:GREGORIAN
METHOD:PUBLISH
X-WR-TIMEZONE:UTC
BEGIN:VEVENT
SUMMARY:Christmas Hub Cafe
DTSTART:20251210T100000Z
DTEND:20251210T110000Z
DTSTAMP:20260419T180432Z
UID:12652012025-12-10 10:00:00+00:00achurchnearyou
CATEGORIES:
DESCRIPTION:Christmas Hub Cafe!
LOCATION:Brompton-on-Swale: St Paul
URL:https://www.achurchnearyou.com/church/3198/service-and-events/events/1
 265201/
END:VEVENT
END:VCALENDAR
