BEGIN:VCALENDAR
VERSION:2.0
PRODID:-//achurchnearyou.com//eventfeed//EN
CALSCALE:GREGORIAN
METHOD:PUBLISH
X-WR-TIMEZONE:UTC
BEGIN:VEVENT
SUMMARY:Baptism of Christ - Plough Sunday
DTSTART:20260111T103000Z
DTEND:20260111T113000Z
DTSTAMP:20260419T161505Z
UID:12774042026-01-11 10:30:00+00:00achurchnearyou
CATEGORIES:
DESCRIPTION:All are welcome
LOCATION:Bolton-on- Swale: St Mary
URL:https://www.achurchnearyou.com/church/3198/service-and-events/events/1
 277404/
END:VEVENT
END:VCALENDAR
