BEGIN:VCALENDAR
VERSION:2.0
PRODID:-//achurchnearyou.com//eventfeed//EN
CALSCALE:GREGORIAN
METHOD:PUBLISH
X-WR-TIMEZONE:UTC
BEGIN:VEVENT
SUMMARY:Choc Stop at St Peter's
DTSTART;TZID=Europe/London:20260416T151500
DTEND;TZID=Europe/London:20260416T161500
DTSTAMP:20260421T114855Z
UID:12969921776348900.0achurchnearyou
CATEGORIES:
DESCRIPTION:Enjoy a hot chocolate on your way home from school. Outside St
  Peter’s Church\, Buntingford\, Thursdays from 3.15pm. Looking forward t
 o seeing you there!
LOCATION:St Peter's\, Buntingford
URL:https://www.achurchnearyou.com/church/7834/service-and-events/events/1
 296992/
END:VEVENT
BEGIN:VEVENT
SUMMARY:Planet in Need-People's Emergency Briefing
DTSTART;TZID=Europe/London:20260417T193000
DTEND;TZID=Europe/London:20260417T220000
DTSTAMP:20260421T114855Z
UID:13228601776450600.0achurchnearyou
CATEGORIES:
DESCRIPTION:📢 A special community screening: The People’s Emergency B
 riefing #PEBuk\n\nWhat’s happening with climate and nature\, and what do
 es it mean for everyday life in the UK?\n\nJoin us for a screening of the 
 People’s Emergency Briefing - an eye-opening film bringing together nine
  leading UK scientists and experts with the latest evidence and why it mat
 ters for things like:\n\n🌧️ Extreme weather\n🍞 Food security\n🏥
  Health\n💷 Cost of living\n\nThe film is based on the National Emergenc
 y Briefing in Westminster (featured by ITV\, Channel 4 and The Times) with
  appearances from Chris Packham\, Deborah Meaden\, and a range of voices f
 rom across the UK.\n\nAfter the film there will be a short open discussion
  about what it means for our community and what we can do locally.\n\nWe h
 ave invited our MP\, Chris Hinchliff\, who will join with constituents for
  this important discussion about our future.\n\nBring a friend\, neighbour
  or family member: everyone is welcome.\nPlease book your free ticket to c
 ome along to see this inspiring film.
LOCATION:Benson Hall
URL:https://www.tickettailor.com/events/buntingfordactiononclimatechangean
 dsustainability/2116220
END:VEVENT
BEGIN:VEVENT
SUMMARY:Choc Stop at St Peter's
DTSTART;TZID=Europe/London:20260423T151500
DTEND;TZID=Europe/London:20260423T161500
DTSTAMP:20260421T114855Z
UID:12969921776953700.0achurchnearyou
CATEGORIES:
DESCRIPTION:Enjoy a hot chocolate on your way home from school. Outside St
  Peter’s Church\, Buntingford\, Thursdays from 3.15pm. Looking forward t
 o seeing you there!
LOCATION:St Peter's\, Buntingford
URL:https://www.achurchnearyou.com/church/7834/service-and-events/events/1
 296992/
END:VEVENT
BEGIN:VEVENT
SUMMARY:Choc Stop at St Peter's
DTSTART;TZID=Europe/London:20260430T151500
DTEND;TZID=Europe/London:20260430T161500
DTSTAMP:20260421T114855Z
UID:12969921777558500.0achurchnearyou
CATEGORIES:
DESCRIPTION:Enjoy a hot chocolate on your way home from school. Outside St
  Peter’s Church\, Buntingford\, Thursdays from 3.15pm. Looking forward t
 o seeing you there!
LOCATION:St Peter's\, Buntingford
URL:https://www.achurchnearyou.com/church/7834/service-and-events/events/1
 296992/
END:VEVENT
BEGIN:VEVENT
SUMMARY:Choc Stop at St Peter's
DTSTART;TZID=Europe/London:20260507T151500
DTEND;TZID=Europe/London:20260507T161500
DTSTAMP:20260421T114855Z
UID:12969921778163300.0achurchnearyou
CATEGORIES:
DESCRIPTION:Enjoy a hot chocolate on your way home from school. Outside St
  Peter’s Church\, Buntingford\, Thursdays from 3.15pm. Looking forward t
 o seeing you there!
LOCATION:St Peter's\, Buntingford
URL:https://www.achurchnearyou.com/church/7834/service-and-events/events/1
 296992/
END:VEVENT
BEGIN:VEVENT
SUMMARY:Choc Stop at St Peter's
DTSTART;TZID=Europe/London:20260514T151500
DTEND;TZID=Europe/London:20260514T161500
DTSTAMP:20260421T114855Z
UID:12969921778768100.0achurchnearyou
CATEGORIES:
DESCRIPTION:Enjoy a hot chocolate on your way home from school. Outside St
  Peter’s Church\, Buntingford\, Thursdays from 3.15pm. Looking forward t
 o seeing you there!
LOCATION:St Peter's\, Buntingford
URL:https://www.achurchnearyou.com/church/7834/service-and-events/events/1
 296992/
END:VEVENT
BEGIN:VEVENT
SUMMARY:Choc Stop at St Peter's
DTSTART;TZID=Europe/London:20260521T151500
DTEND;TZID=Europe/London:20260521T161500
DTSTAMP:20260421T114855Z
UID:12969921779372900.0achurchnearyou
CATEGORIES:
DESCRIPTION:Enjoy a hot chocolate on your way home from school. Outside St
  Peter’s Church\, Buntingford\, Thursdays from 3.15pm. Looking forward t
 o seeing you there!
LOCATION:St Peter's\, Buntingford
URL:https://www.achurchnearyou.com/church/7834/service-and-events/events/1
 296992/
END:VEVENT
BEGIN:VEVENT
SUMMARY:Choc Stop at St Peter's
DTSTART;TZID=Europe/London:20260528T151500
DTEND;TZID=Europe/London:20260528T161500
DTSTAMP:20260421T114855Z
UID:12969921779977700.0achurchnearyou
CATEGORIES:
DESCRIPTION:Enjoy a hot chocolate on your way home from school. Outside St
  Peter’s Church\, Buntingford\, Thursdays from 3.15pm. Looking forward t
 o seeing you there!
LOCATION:St Peter's\, Buntingford
URL:https://www.achurchnearyou.com/church/7834/service-and-events/events/1
 296992/
END:VEVENT
END:VCALENDAR
