BEGIN:VCALENDAR
VERSION:2.0
PRODID:-//achurchnearyou.com//eventfeed//EN
CALSCALE:GREGORIAN
METHOD:PUBLISH
X-WR-TIMEZONE:UTC
BEGIN:VEVENT
SUMMARY:Liturgy of Good Friday
DTSTART:20250418T130000Z
DTEND:20250418T140000Z
DTSTAMP:20260425T144640Z
UID:10300742025-04-18 13:00:00+00:00achurchnearyou
CATEGORIES:
DESCRIPTION:Prayers and devotions before the Cross.
GEO:-1.576023;53.819102
LOCATION:St Michael & All Angels
URL:https://www.achurchnearyou.com/church/3222/service-and-events/events/1
 030074/
END:VEVENT
END:VCALENDAR
