BEGIN:VCALENDAR
VERSION:2.0
PRODID:-//achurchnearyou.com//eventfeed//EN
CALSCALE:GREGORIAN
METHOD:PUBLISH
X-WR-TIMEZONE:UTC
BEGIN:VEVENT
SUMMARY:Sung Eucharist for the Epiphany
DTSTART:20250105T100000Z
DTEND:20250105T110000Z
DTSTAMP:20260425T175509Z
UID:11452012025-01-05 10:00:00+00:00achurchnearyou
CATEGORIES:
DESCRIPTION:Sung Holy Communion for the Feast of the Epiphany.
GEO:-1.576023;53.819102
LOCATION:St Michael & All Angels
URL:https://www.achurchnearyou.com/church/3222/service-and-events/events/1
 145201/
END:VEVENT
END:VCALENDAR
