BEGIN:VCALENDAR
VERSION:2.0
PRODID:-//achurchnearyou.com//eventfeed//EN
CALSCALE:GREGORIAN
METHOD:PUBLISH
X-WR-TIMEZONE:UTC
BEGIN:VEVENT
SUMMARY:Parish Eucharist for Christmas Day
DTSTART:20251225T103000Z
DTEND:20251225T111500Z
DTSTAMP:20260424T221207Z
UID:12579682025-12-25 10:30:00+00:00achurchnearyou
CATEGORIES:
DESCRIPTION:Christmas Day celebration of Holy Communion with carols.
GEO:-1.576023;53.819102
LOCATION:St Michael & All Angels
URL:https://www.achurchnearyou.com/church/3222/service-and-events/events/1
 257968/
END:VEVENT
END:VCALENDAR
