BEGIN:VCALENDAR
VERSION:2.0
PRODID:-//achurchnearyou.com//eventfeed//EN
CALSCALE:GREGORIAN
METHOD:PUBLISH
X-WR-TIMEZONE:UTC
BEGIN:VEVENT
SUMMARY:Maundy Thursday
DTSTART;TZID=Europe/London:20260402T190000
DTEND;TZID=Europe/London:20260402T210000
DTSTAMP:20260424T145203Z
UID:12936162026-04-02 19:00:00+01:00achurchnearyou
CATEGORIES:
DESCRIPTION:A solemn sung service incorporating The Washing of Feet\, Last
  Supper\, Stripping of the Altar and Watch in the graden at Gethsemane
GEO:-1.576023;53.819102
LOCATION:St Michael & All Angels
URL:https://www.achurchnearyou.com/church/3222/service-and-events/events/1
 293616/
END:VEVENT
END:VCALENDAR
