BEGIN:VCALENDAR
VERSION:2.0
PRODID:-//achurchnearyou.com//eventfeed//EN
CALSCALE:GREGORIAN
METHOD:PUBLISH
X-WR-TIMEZONE:UTC
BEGIN:VEVENT
SUMMARY:Holy Communion (Said)
DTSTART;TZID=Europe/London:20260422T091500
DTEND;TZID=Europe/London:20260422T095500
DTSTAMP:20260421T022609Z
UID:221612026-04-22 09:15:00+01:00achurchnearyou
CATEGORIES:
DESCRIPTION:Holy Communion Service
GEO:-1.733442;54.40507
LOCATION:Richmond: St Mary
URL:https://www.achurchnearyou.com/church/3276/service-and-events/events/2
 2161/
END:VEVENT
BEGIN:VEVENT
SUMMARY:Holy Communion (Said)
DTSTART;TZID=Europe/London:20260429T091500
DTEND;TZID=Europe/London:20260429T095500
DTSTAMP:20260421T022609Z
UID:221612026-04-29 09:15:00+01:00achurchnearyou
CATEGORIES:
DESCRIPTION:Holy Communion Service
GEO:-1.733442;54.40507
LOCATION:Richmond: St Mary
URL:https://www.achurchnearyou.com/church/3276/service-and-events/events/2
 2161/
END:VEVENT
BEGIN:VEVENT
SUMMARY:Holy Communion (Said)
DTSTART;TZID=Europe/London:20260506T091500
DTEND;TZID=Europe/London:20260506T095500
DTSTAMP:20260421T022609Z
UID:221612026-05-06 09:15:00+01:00achurchnearyou
CATEGORIES:
DESCRIPTION:Holy Communion Service
GEO:-1.733442;54.40507
LOCATION:Richmond: St Mary
URL:https://www.achurchnearyou.com/church/3276/service-and-events/events/2
 2161/
END:VEVENT
BEGIN:VEVENT
SUMMARY:Holy Communion (Said)
DTSTART;TZID=Europe/London:20260513T091500
DTEND;TZID=Europe/London:20260513T095500
DTSTAMP:20260421T022609Z
UID:221612026-05-13 09:15:00+01:00achurchnearyou
CATEGORIES:
DESCRIPTION:Holy Communion Service
GEO:-1.733442;54.40507
LOCATION:Richmond: St Mary
URL:https://www.achurchnearyou.com/church/3276/service-and-events/events/2
 2161/
END:VEVENT
BEGIN:VEVENT
SUMMARY:Holy Communion (Said)
DTSTART;TZID=Europe/London:20260520T091500
DTEND;TZID=Europe/London:20260520T095500
DTSTAMP:20260421T022609Z
UID:221612026-05-20 09:15:00+01:00achurchnearyou
CATEGORIES:
DESCRIPTION:Holy Communion Service
GEO:-1.733442;54.40507
LOCATION:Richmond: St Mary
URL:https://www.achurchnearyou.com/church/3276/service-and-events/events/2
 2161/
END:VEVENT
BEGIN:VEVENT
SUMMARY:Holy Communion (Said)
DTSTART;TZID=Europe/London:20260527T091500
DTEND;TZID=Europe/London:20260527T095500
DTSTAMP:20260421T022609Z
UID:221612026-05-27 09:15:00+01:00achurchnearyou
CATEGORIES:
DESCRIPTION:Holy Communion Service
GEO:-1.733442;54.40507
LOCATION:Richmond: St Mary
URL:https://www.achurchnearyou.com/church/3276/service-and-events/events/2
 2161/
END:VEVENT
BEGIN:VEVENT
SUMMARY:Holy Communion (Said)
DTSTART;TZID=Europe/London:20260603T091500
DTEND;TZID=Europe/London:20260603T095500
DTSTAMP:20260421T022609Z
UID:221612026-06-03 09:15:00+01:00achurchnearyou
CATEGORIES:
DESCRIPTION:Holy Communion Service
GEO:-1.733442;54.40507
LOCATION:Richmond: St Mary
URL:https://www.achurchnearyou.com/church/3276/service-and-events/events/2
 2161/
END:VEVENT
BEGIN:VEVENT
SUMMARY:Holy Communion (Said)
DTSTART;TZID=Europe/London:20260610T091500
DTEND;TZID=Europe/London:20260610T095500
DTSTAMP:20260421T022609Z
UID:221612026-06-10 09:15:00+01:00achurchnearyou
CATEGORIES:
DESCRIPTION:Holy Communion Service
GEO:-1.733442;54.40507
LOCATION:Richmond: St Mary
URL:https://www.achurchnearyou.com/church/3276/service-and-events/events/2
 2161/
END:VEVENT
BEGIN:VEVENT
SUMMARY:Holy Communion (Said)
DTSTART;TZID=Europe/London:20260617T091500
DTEND;TZID=Europe/London:20260617T095500
DTSTAMP:20260421T022609Z
UID:221612026-06-17 09:15:00+01:00achurchnearyou
CATEGORIES:
DESCRIPTION:Holy Communion Service
GEO:-1.733442;54.40507
LOCATION:Richmond: St Mary
URL:https://www.achurchnearyou.com/church/3276/service-and-events/events/2
 2161/
END:VEVENT
BEGIN:VEVENT
SUMMARY:Holy Communion (Said)
DTSTART;TZID=Europe/London:20260624T091500
DTEND;TZID=Europe/London:20260624T095500
DTSTAMP:20260421T022609Z
UID:221612026-06-24 09:15:00+01:00achurchnearyou
CATEGORIES:
DESCRIPTION:Holy Communion Service
GEO:-1.733442;54.40507
LOCATION:Richmond: St Mary
URL:https://www.achurchnearyou.com/church/3276/service-and-events/events/2
 2161/
END:VEVENT
BEGIN:VEVENT
SUMMARY:Holy Communion (Said)
DTSTART;TZID=Europe/London:20260701T091500
DTEND;TZID=Europe/London:20260701T095500
DTSTAMP:20260421T022609Z
UID:221612026-07-01 09:15:00+01:00achurchnearyou
CATEGORIES:
DESCRIPTION:Holy Communion Service
GEO:-1.733442;54.40507
LOCATION:Richmond: St Mary
URL:https://www.achurchnearyou.com/church/3276/service-and-events/events/2
 2161/
END:VEVENT
BEGIN:VEVENT
SUMMARY:Holy Communion (Said)
DTSTART;TZID=Europe/London:20260708T091500
DTEND;TZID=Europe/London:20260708T095500
DTSTAMP:20260421T022609Z
UID:221612026-07-08 09:15:00+01:00achurchnearyou
CATEGORIES:
DESCRIPTION:Holy Communion Service
GEO:-1.733442;54.40507
LOCATION:Richmond: St Mary
URL:https://www.achurchnearyou.com/church/3276/service-and-events/events/2
 2161/
END:VEVENT
BEGIN:VEVENT
SUMMARY:Holy Communion (Said)
DTSTART;TZID=Europe/London:20260715T091500
DTEND;TZID=Europe/London:20260715T095500
DTSTAMP:20260421T022609Z
UID:221612026-07-15 09:15:00+01:00achurchnearyou
CATEGORIES:
DESCRIPTION:Holy Communion Service
GEO:-1.733442;54.40507
LOCATION:Richmond: St Mary
URL:https://www.achurchnearyou.com/church/3276/service-and-events/events/2
 2161/
END:VEVENT
BEGIN:VEVENT
SUMMARY:Holy Communion (Said)
DTSTART;TZID=Europe/London:20260722T091500
DTEND;TZID=Europe/London:20260722T095500
DTSTAMP:20260421T022609Z
UID:221612026-07-22 09:15:00+01:00achurchnearyou
CATEGORIES:
DESCRIPTION:Holy Communion Service
GEO:-1.733442;54.40507
LOCATION:Richmond: St Mary
URL:https://www.achurchnearyou.com/church/3276/service-and-events/events/2
 2161/
END:VEVENT
BEGIN:VEVENT
SUMMARY:Holy Communion (Said)
DTSTART;TZID=Europe/London:20260729T091500
DTEND;TZID=Europe/London:20260729T095500
DTSTAMP:20260421T022609Z
UID:221612026-07-29 09:15:00+01:00achurchnearyou
CATEGORIES:
DESCRIPTION:Holy Communion Service
GEO:-1.733442;54.40507
LOCATION:Richmond: St Mary
URL:https://www.achurchnearyou.com/church/3276/service-and-events/events/2
 2161/
END:VEVENT
BEGIN:VEVENT
SUMMARY:Holy Communion (Said)
DTSTART;TZID=Europe/London:20260805T091500
DTEND;TZID=Europe/London:20260805T095500
DTSTAMP:20260421T022609Z
UID:221612026-08-05 09:15:00+01:00achurchnearyou
CATEGORIES:
DESCRIPTION:Holy Communion Service
GEO:-1.733442;54.40507
LOCATION:Richmond: St Mary
URL:https://www.achurchnearyou.com/church/3276/service-and-events/events/2
 2161/
END:VEVENT
BEGIN:VEVENT
SUMMARY:Holy Communion (Said)
DTSTART;TZID=Europe/London:20260812T091500
DTEND;TZID=Europe/London:20260812T095500
DTSTAMP:20260421T022609Z
UID:221612026-08-12 09:15:00+01:00achurchnearyou
CATEGORIES:
DESCRIPTION:Holy Communion Service
GEO:-1.733442;54.40507
LOCATION:Richmond: St Mary
URL:https://www.achurchnearyou.com/church/3276/service-and-events/events/2
 2161/
END:VEVENT
BEGIN:VEVENT
SUMMARY:Holy Communion (Said)
DTSTART;TZID=Europe/London:20260819T091500
DTEND;TZID=Europe/London:20260819T095500
DTSTAMP:20260421T022609Z
UID:221612026-08-19 09:15:00+01:00achurchnearyou
CATEGORIES:
DESCRIPTION:Holy Communion Service
GEO:-1.733442;54.40507
LOCATION:Richmond: St Mary
URL:https://www.achurchnearyou.com/church/3276/service-and-events/events/2
 2161/
END:VEVENT
BEGIN:VEVENT
SUMMARY:Holy Communion (Said)
DTSTART;TZID=Europe/London:20260826T091500
DTEND;TZID=Europe/London:20260826T095500
DTSTAMP:20260421T022609Z
UID:221612026-08-26 09:15:00+01:00achurchnearyou
CATEGORIES:
DESCRIPTION:Holy Communion Service
GEO:-1.733442;54.40507
LOCATION:Richmond: St Mary
URL:https://www.achurchnearyou.com/church/3276/service-and-events/events/2
 2161/
END:VEVENT
BEGIN:VEVENT
SUMMARY:Holy Communion (Said)
DTSTART;TZID=Europe/London:20260902T091500
DTEND;TZID=Europe/London:20260902T095500
DTSTAMP:20260421T022609Z
UID:221612026-09-02 09:15:00+01:00achurchnearyou
CATEGORIES:
DESCRIPTION:Holy Communion Service
GEO:-1.733442;54.40507
LOCATION:Richmond: St Mary
URL:https://www.achurchnearyou.com/church/3276/service-and-events/events/2
 2161/
END:VEVENT
BEGIN:VEVENT
SUMMARY:Holy Communion (Said)
DTSTART;TZID=Europe/London:20260909T091500
DTEND;TZID=Europe/London:20260909T095500
DTSTAMP:20260421T022609Z
UID:221612026-09-09 09:15:00+01:00achurchnearyou
CATEGORIES:
DESCRIPTION:Holy Communion Service
GEO:-1.733442;54.40507
LOCATION:Richmond: St Mary
URL:https://www.achurchnearyou.com/church/3276/service-and-events/events/2
 2161/
END:VEVENT
BEGIN:VEVENT
SUMMARY:Holy Communion (Said)
DTSTART;TZID=Europe/London:20260916T091500
DTEND;TZID=Europe/London:20260916T095500
DTSTAMP:20260421T022609Z
UID:221612026-09-16 09:15:00+01:00achurchnearyou
CATEGORIES:
DESCRIPTION:Holy Communion Service
GEO:-1.733442;54.40507
LOCATION:Richmond: St Mary
URL:https://www.achurchnearyou.com/church/3276/service-and-events/events/2
 2161/
END:VEVENT
BEGIN:VEVENT
SUMMARY:Holy Communion (Said)
DTSTART;TZID=Europe/London:20260923T091500
DTEND;TZID=Europe/London:20260923T095500
DTSTAMP:20260421T022609Z
UID:221612026-09-23 09:15:00+01:00achurchnearyou
CATEGORIES:
DESCRIPTION:Holy Communion Service
GEO:-1.733442;54.40507
LOCATION:Richmond: St Mary
URL:https://www.achurchnearyou.com/church/3276/service-and-events/events/2
 2161/
END:VEVENT
BEGIN:VEVENT
SUMMARY:Holy Communion (Said)
DTSTART;TZID=Europe/London:20260930T091500
DTEND;TZID=Europe/London:20260930T095500
DTSTAMP:20260421T022609Z
UID:221612026-09-30 09:15:00+01:00achurchnearyou
CATEGORIES:
DESCRIPTION:Holy Communion Service
GEO:-1.733442;54.40507
LOCATION:Richmond: St Mary
URL:https://www.achurchnearyou.com/church/3276/service-and-events/events/2
 2161/
END:VEVENT
BEGIN:VEVENT
SUMMARY:Holy Communion (Said)
DTSTART;TZID=Europe/London:20261007T091500
DTEND;TZID=Europe/London:20261007T095500
DTSTAMP:20260421T022609Z
UID:221612026-10-07 09:15:00+01:00achurchnearyou
CATEGORIES:
DESCRIPTION:Holy Communion Service
GEO:-1.733442;54.40507
LOCATION:Richmond: St Mary
URL:https://www.achurchnearyou.com/church/3276/service-and-events/events/2
 2161/
END:VEVENT
BEGIN:VEVENT
SUMMARY:Holy Communion (Said)
DTSTART;TZID=Europe/London:20261014T091500
DTEND;TZID=Europe/London:20261014T095500
DTSTAMP:20260421T022609Z
UID:221612026-10-14 09:15:00+01:00achurchnearyou
CATEGORIES:
DESCRIPTION:Holy Communion Service
GEO:-1.733442;54.40507
LOCATION:Richmond: St Mary
URL:https://www.achurchnearyou.com/church/3276/service-and-events/events/2
 2161/
END:VEVENT
BEGIN:VEVENT
SUMMARY:Holy Communion (Said)
DTSTART;TZID=Europe/London:20261021T091500
DTEND;TZID=Europe/London:20261021T095500
DTSTAMP:20260421T022609Z
UID:221612026-10-21 09:15:00+01:00achurchnearyou
CATEGORIES:
DESCRIPTION:Holy Communion Service
GEO:-1.733442;54.40507
LOCATION:Richmond: St Mary
URL:https://www.achurchnearyou.com/church/3276/service-and-events/events/2
 2161/
END:VEVENT
BEGIN:VEVENT
SUMMARY:Holy Communion (Said)
DTSTART;TZID=Europe/London:20261028T091500
DTEND;TZID=Europe/London:20261028T095500
DTSTAMP:20260421T022609Z
UID:221612026-10-28 09:15:00+00:00achurchnearyou
CATEGORIES:
DESCRIPTION:Holy Communion Service
GEO:-1.733442;54.40507
LOCATION:Richmond: St Mary
URL:https://www.achurchnearyou.com/church/3276/service-and-events/events/2
 2161/
END:VEVENT
BEGIN:VEVENT
SUMMARY:Holy Communion (Said)
DTSTART;TZID=Europe/London:20261104T091500
DTEND;TZID=Europe/London:20261104T095500
DTSTAMP:20260421T022609Z
UID:221612026-11-04 09:15:00+00:00achurchnearyou
CATEGORIES:
DESCRIPTION:Holy Communion Service
GEO:-1.733442;54.40507
LOCATION:Richmond: St Mary
URL:https://www.achurchnearyou.com/church/3276/service-and-events/events/2
 2161/
END:VEVENT
BEGIN:VEVENT
SUMMARY:Holy Communion (Said)
DTSTART;TZID=Europe/London:20261111T091500
DTEND;TZID=Europe/London:20261111T095500
DTSTAMP:20260421T022609Z
UID:221612026-11-11 09:15:00+00:00achurchnearyou
CATEGORIES:
DESCRIPTION:Holy Communion Service
GEO:-1.733442;54.40507
LOCATION:Richmond: St Mary
URL:https://www.achurchnearyou.com/church/3276/service-and-events/events/2
 2161/
END:VEVENT
BEGIN:VEVENT
SUMMARY:Holy Communion (Said)
DTSTART;TZID=Europe/London:20261118T091500
DTEND;TZID=Europe/London:20261118T095500
DTSTAMP:20260421T022609Z
UID:221612026-11-18 09:15:00+00:00achurchnearyou
CATEGORIES:
DESCRIPTION:Holy Communion Service
GEO:-1.733442;54.40507
LOCATION:Richmond: St Mary
URL:https://www.achurchnearyou.com/church/3276/service-and-events/events/2
 2161/
END:VEVENT
BEGIN:VEVENT
SUMMARY:Holy Communion (Said)
DTSTART;TZID=Europe/London:20261125T091500
DTEND;TZID=Europe/London:20261125T095500
DTSTAMP:20260421T022609Z
UID:221612026-11-25 09:15:00+00:00achurchnearyou
CATEGORIES:
DESCRIPTION:Holy Communion Service
GEO:-1.733442;54.40507
LOCATION:Richmond: St Mary
URL:https://www.achurchnearyou.com/church/3276/service-and-events/events/2
 2161/
END:VEVENT
BEGIN:VEVENT
SUMMARY:Holy Communion (Said)
DTSTART;TZID=Europe/London:20261202T091500
DTEND;TZID=Europe/London:20261202T095500
DTSTAMP:20260421T022609Z
UID:221612026-12-02 09:15:00+00:00achurchnearyou
CATEGORIES:
DESCRIPTION:Holy Communion Service
GEO:-1.733442;54.40507
LOCATION:Richmond: St Mary
URL:https://www.achurchnearyou.com/church/3276/service-and-events/events/2
 2161/
END:VEVENT
BEGIN:VEVENT
SUMMARY:Holy Communion (Said)
DTSTART;TZID=Europe/London:20261209T091500
DTEND;TZID=Europe/London:20261209T095500
DTSTAMP:20260421T022609Z
UID:221612026-12-09 09:15:00+00:00achurchnearyou
CATEGORIES:
DESCRIPTION:Holy Communion Service
GEO:-1.733442;54.40507
LOCATION:Richmond: St Mary
URL:https://www.achurchnearyou.com/church/3276/service-and-events/events/2
 2161/
END:VEVENT
BEGIN:VEVENT
SUMMARY:Holy Communion (Said)
DTSTART;TZID=Europe/London:20261216T091500
DTEND;TZID=Europe/London:20261216T095500
DTSTAMP:20260421T022609Z
UID:221612026-12-16 09:15:00+00:00achurchnearyou
CATEGORIES:
DESCRIPTION:Holy Communion Service
GEO:-1.733442;54.40507
LOCATION:Richmond: St Mary
URL:https://www.achurchnearyou.com/church/3276/service-and-events/events/2
 2161/
END:VEVENT
BEGIN:VEVENT
SUMMARY:Holy Communion (Said)
DTSTART;TZID=Europe/London:20261223T091500
DTEND;TZID=Europe/London:20261223T095500
DTSTAMP:20260421T022609Z
UID:221612026-12-23 09:15:00+00:00achurchnearyou
CATEGORIES:
DESCRIPTION:Holy Communion Service
GEO:-1.733442;54.40507
LOCATION:Richmond: St Mary
URL:https://www.achurchnearyou.com/church/3276/service-and-events/events/2
 2161/
END:VEVENT
BEGIN:VEVENT
SUMMARY:Holy Communion (Said)
DTSTART;TZID=Europe/London:20261230T091500
DTEND;TZID=Europe/London:20261230T095500
DTSTAMP:20260421T022609Z
UID:221612026-12-30 09:15:00+00:00achurchnearyou
CATEGORIES:
DESCRIPTION:Holy Communion Service
GEO:-1.733442;54.40507
LOCATION:Richmond: St Mary
URL:https://www.achurchnearyou.com/church/3276/service-and-events/events/2
 2161/
END:VEVENT
BEGIN:VEVENT
SUMMARY:Holy Communion (Said)
DTSTART;TZID=Europe/London:20270106T091500
DTEND;TZID=Europe/London:20270106T095500
DTSTAMP:20260421T022609Z
UID:221612027-01-06 09:15:00+00:00achurchnearyou
CATEGORIES:
DESCRIPTION:Holy Communion Service
GEO:-1.733442;54.40507
LOCATION:Richmond: St Mary
URL:https://www.achurchnearyou.com/church/3276/service-and-events/events/2
 2161/
END:VEVENT
BEGIN:VEVENT
SUMMARY:Holy Communion (Said)
DTSTART;TZID=Europe/London:20270113T091500
DTEND;TZID=Europe/London:20270113T095500
DTSTAMP:20260421T022609Z
UID:221612027-01-13 09:15:00+00:00achurchnearyou
CATEGORIES:
DESCRIPTION:Holy Communion Service
GEO:-1.733442;54.40507
LOCATION:Richmond: St Mary
URL:https://www.achurchnearyou.com/church/3276/service-and-events/events/2
 2161/
END:VEVENT
BEGIN:VEVENT
SUMMARY:Holy Communion (Said)
DTSTART;TZID=Europe/London:20270120T091500
DTEND;TZID=Europe/London:20270120T095500
DTSTAMP:20260421T022609Z
UID:221612027-01-20 09:15:00+00:00achurchnearyou
CATEGORIES:
DESCRIPTION:Holy Communion Service
GEO:-1.733442;54.40507
LOCATION:Richmond: St Mary
URL:https://www.achurchnearyou.com/church/3276/service-and-events/events/2
 2161/
END:VEVENT
BEGIN:VEVENT
SUMMARY:Holy Communion (Said)
DTSTART;TZID=Europe/London:20270127T091500
DTEND;TZID=Europe/London:20270127T095500
DTSTAMP:20260421T022609Z
UID:221612027-01-27 09:15:00+00:00achurchnearyou
CATEGORIES:
DESCRIPTION:Holy Communion Service
GEO:-1.733442;54.40507
LOCATION:Richmond: St Mary
URL:https://www.achurchnearyou.com/church/3276/service-and-events/events/2
 2161/
END:VEVENT
BEGIN:VEVENT
SUMMARY:Holy Communion (Said)
DTSTART;TZID=Europe/London:20270203T091500
DTEND;TZID=Europe/London:20270203T095500
DTSTAMP:20260421T022609Z
UID:221612027-02-03 09:15:00+00:00achurchnearyou
CATEGORIES:
DESCRIPTION:Holy Communion Service
GEO:-1.733442;54.40507
LOCATION:Richmond: St Mary
URL:https://www.achurchnearyou.com/church/3276/service-and-events/events/2
 2161/
END:VEVENT
BEGIN:VEVENT
SUMMARY:Holy Communion (Said)
DTSTART;TZID=Europe/London:20270210T091500
DTEND;TZID=Europe/London:20270210T095500
DTSTAMP:20260421T022609Z
UID:221612027-02-10 09:15:00+00:00achurchnearyou
CATEGORIES:
DESCRIPTION:Holy Communion Service
GEO:-1.733442;54.40507
LOCATION:Richmond: St Mary
URL:https://www.achurchnearyou.com/church/3276/service-and-events/events/2
 2161/
END:VEVENT
BEGIN:VEVENT
SUMMARY:Holy Communion (Said)
DTSTART;TZID=Europe/London:20270217T091500
DTEND;TZID=Europe/London:20270217T095500
DTSTAMP:20260421T022609Z
UID:221612027-02-17 09:15:00+00:00achurchnearyou
CATEGORIES:
DESCRIPTION:Holy Communion Service
GEO:-1.733442;54.40507
LOCATION:Richmond: St Mary
URL:https://www.achurchnearyou.com/church/3276/service-and-events/events/2
 2161/
END:VEVENT
BEGIN:VEVENT
SUMMARY:Holy Communion (Said)
DTSTART;TZID=Europe/London:20270224T091500
DTEND;TZID=Europe/London:20270224T095500
DTSTAMP:20260421T022609Z
UID:221612027-02-24 09:15:00+00:00achurchnearyou
CATEGORIES:
DESCRIPTION:Holy Communion Service
GEO:-1.733442;54.40507
LOCATION:Richmond: St Mary
URL:https://www.achurchnearyou.com/church/3276/service-and-events/events/2
 2161/
END:VEVENT
BEGIN:VEVENT
SUMMARY:Holy Communion (Said)
DTSTART;TZID=Europe/London:20270303T091500
DTEND;TZID=Europe/London:20270303T095500
DTSTAMP:20260421T022609Z
UID:221612027-03-03 09:15:00+00:00achurchnearyou
CATEGORIES:
DESCRIPTION:Holy Communion Service
GEO:-1.733442;54.40507
LOCATION:Richmond: St Mary
URL:https://www.achurchnearyou.com/church/3276/service-and-events/events/2
 2161/
END:VEVENT
BEGIN:VEVENT
SUMMARY:Holy Communion (Said)
DTSTART;TZID=Europe/London:20270310T091500
DTEND;TZID=Europe/London:20270310T095500
DTSTAMP:20260421T022609Z
UID:221612027-03-10 09:15:00+00:00achurchnearyou
CATEGORIES:
DESCRIPTION:Holy Communion Service
GEO:-1.733442;54.40507
LOCATION:Richmond: St Mary
URL:https://www.achurchnearyou.com/church/3276/service-and-events/events/2
 2161/
END:VEVENT
BEGIN:VEVENT
SUMMARY:Holy Communion (Said)
DTSTART;TZID=Europe/London:20270317T091500
DTEND;TZID=Europe/London:20270317T095500
DTSTAMP:20260421T022609Z
UID:221612027-03-17 09:15:00+00:00achurchnearyou
CATEGORIES:
DESCRIPTION:Holy Communion Service
GEO:-1.733442;54.40507
LOCATION:Richmond: St Mary
URL:https://www.achurchnearyou.com/church/3276/service-and-events/events/2
 2161/
END:VEVENT
BEGIN:VEVENT
SUMMARY:Holy Communion (Said)
DTSTART;TZID=Europe/London:20270324T091500
DTEND;TZID=Europe/London:20270324T095500
DTSTAMP:20260421T022609Z
UID:221612027-03-24 09:15:00+00:00achurchnearyou
CATEGORIES:
DESCRIPTION:Holy Communion Service
GEO:-1.733442;54.40507
LOCATION:Richmond: St Mary
URL:https://www.achurchnearyou.com/church/3276/service-and-events/events/2
 2161/
END:VEVENT
BEGIN:VEVENT
SUMMARY:Holy Communion (Said)
DTSTART;TZID=Europe/London:20270331T091500
DTEND;TZID=Europe/London:20270331T095500
DTSTAMP:20260421T022609Z
UID:221612027-03-31 09:15:00+01:00achurchnearyou
CATEGORIES:
DESCRIPTION:Holy Communion Service
GEO:-1.733442;54.40507
LOCATION:Richmond: St Mary
URL:https://www.achurchnearyou.com/church/3276/service-and-events/events/2
 2161/
END:VEVENT
BEGIN:VEVENT
SUMMARY:Holy Communion (Said)
DTSTART;TZID=Europe/London:20270407T091500
DTEND;TZID=Europe/London:20270407T095500
DTSTAMP:20260421T022609Z
UID:221612027-04-07 09:15:00+01:00achurchnearyou
CATEGORIES:
DESCRIPTION:Holy Communion Service
GEO:-1.733442;54.40507
LOCATION:Richmond: St Mary
URL:https://www.achurchnearyou.com/church/3276/service-and-events/events/2
 2161/
END:VEVENT
BEGIN:VEVENT
SUMMARY:Holy Communion (Said)
DTSTART;TZID=Europe/London:20270414T091500
DTEND;TZID=Europe/London:20270414T095500
DTSTAMP:20260421T022609Z
UID:221612027-04-14 09:15:00+01:00achurchnearyou
CATEGORIES:
DESCRIPTION:Holy Communion Service
GEO:-1.733442;54.40507
LOCATION:Richmond: St Mary
URL:https://www.achurchnearyou.com/church/3276/service-and-events/events/2
 2161/
END:VEVENT
BEGIN:VEVENT
SUMMARY:Holy Communion (Said)
DTSTART;TZID=Europe/London:20270421T091500
DTEND;TZID=Europe/London:20270421T095500
DTSTAMP:20260421T022609Z
UID:221612027-04-21 09:15:00+01:00achurchnearyou
CATEGORIES:
DESCRIPTION:Holy Communion Service
GEO:-1.733442;54.40507
LOCATION:Richmond: St Mary
URL:https://www.achurchnearyou.com/church/3276/service-and-events/events/2
 2161/
END:VEVENT
END:VCALENDAR
