BEGIN:VCALENDAR
VERSION:2.0
PRODID:-//achurchnearyou.com//eventfeed//EN
CALSCALE:GREGORIAN
METHOD:PUBLISH
X-WR-TIMEZONE:UTC
BEGIN:VEVENT
SUMMARY:Ash Wednesday
DTSTART:20250205T180000Z
DTEND:20250205T184500Z
DTSTAMP:20260419T143223Z
UID:11642972025-02-05 18:00:00+00:00achurchnearyou
CATEGORIES:
DESCRIPTION:Join us at 6pm for a service to mark Ash Wednesday. Everyone i
 s very welcome.
GEO:-1.4999;54.143603
LOCATION:Sharow: St John's
URL:https://www.achurchnearyou.com/church/3290/service-and-events/events/1
 164297/
END:VEVENT
END:VCALENDAR
