BEGIN:VCALENDAR
VERSION:2.0
PRODID:-//achurchnearyou.com//eventfeed//EN
CALSCALE:GREGORIAN
METHOD:PUBLISH
X-WR-TIMEZONE:UTC
BEGIN:VEVENT
SUMMARY:Holy Communion
DTSTART;TZID=Europe/London:20260503T091500
DTEND;TZID=Europe/London:20260503T094500
DTSTAMP:20260422T121358Z
UID:12069042026-05-03 09:15:00+01:00achurchnearyou
CATEGORIES:
DESCRIPTION:Join us for a short service of Holy Communion.
GEO:-1.656785;53.808143
LOCATION:St Thomas' Stanningley
URL:https://www.achurchnearyou.com/church/3298/service-and-events/events/1
 206904/
END:VEVENT
BEGIN:VEVENT
SUMMARY:Holy Communion
DTSTART;TZID=Europe/London:20260607T091500
DTEND;TZID=Europe/London:20260607T094500
DTSTAMP:20260422T121358Z
UID:12069042026-06-07 09:15:00+01:00achurchnearyou
CATEGORIES:
DESCRIPTION:Join us for a short service of Holy Communion.
GEO:-1.656785;53.808143
LOCATION:St Thomas' Stanningley
URL:https://www.achurchnearyou.com/church/3298/service-and-events/events/1
 206904/
END:VEVENT
BEGIN:VEVENT
SUMMARY:Holy Communion
DTSTART;TZID=Europe/London:20260705T091500
DTEND;TZID=Europe/London:20260705T094500
DTSTAMP:20260422T121358Z
UID:12069042026-07-05 09:15:00+01:00achurchnearyou
CATEGORIES:
DESCRIPTION:Join us for a short service of Holy Communion.
GEO:-1.656785;53.808143
LOCATION:St Thomas' Stanningley
URL:https://www.achurchnearyou.com/church/3298/service-and-events/events/1
 206904/
END:VEVENT
BEGIN:VEVENT
SUMMARY:Holy Communion
DTSTART;TZID=Europe/London:20260906T091500
DTEND;TZID=Europe/London:20260906T094500
DTSTAMP:20260422T121358Z
UID:12069042026-09-06 09:15:00+01:00achurchnearyou
CATEGORIES:
DESCRIPTION:Join us for a short service of Holy Communion.
GEO:-1.656785;53.808143
LOCATION:St Thomas' Stanningley
URL:https://www.achurchnearyou.com/church/3298/service-and-events/events/1
 206904/
END:VEVENT
BEGIN:VEVENT
SUMMARY:Holy Communion
DTSTART;TZID=Europe/London:20261004T091500
DTEND;TZID=Europe/London:20261004T094500
DTSTAMP:20260422T121358Z
UID:12069042026-10-04 09:15:00+01:00achurchnearyou
CATEGORIES:
DESCRIPTION:Join us for a short service of Holy Communion.
GEO:-1.656785;53.808143
LOCATION:St Thomas' Stanningley
URL:https://www.achurchnearyou.com/church/3298/service-and-events/events/1
 206904/
END:VEVENT
BEGIN:VEVENT
SUMMARY:Holy Communion
DTSTART;TZID=Europe/London:20261101T091500
DTEND;TZID=Europe/London:20261101T094500
DTSTAMP:20260422T121358Z
UID:12069042026-11-01 09:15:00+00:00achurchnearyou
CATEGORIES:
DESCRIPTION:Join us for a short service of Holy Communion.
GEO:-1.656785;53.808143
LOCATION:St Thomas' Stanningley
URL:https://www.achurchnearyou.com/church/3298/service-and-events/events/1
 206904/
END:VEVENT
BEGIN:VEVENT
SUMMARY:Holy Communion
DTSTART;TZID=Europe/London:20261206T091500
DTEND;TZID=Europe/London:20261206T094500
DTSTAMP:20260422T121358Z
UID:12069042026-12-06 09:15:00+00:00achurchnearyou
CATEGORIES:
DESCRIPTION:Join us for a short service of Holy Communion.
GEO:-1.656785;53.808143
LOCATION:St Thomas' Stanningley
URL:https://www.achurchnearyou.com/church/3298/service-and-events/events/1
 206904/
END:VEVENT
BEGIN:VEVENT
SUMMARY:Holy Communion
DTSTART;TZID=Europe/London:20270103T091500
DTEND;TZID=Europe/London:20270103T094500
DTSTAMP:20260422T121358Z
UID:12069042027-01-03 09:15:00+00:00achurchnearyou
CATEGORIES:
DESCRIPTION:Join us for a short service of Holy Communion.
GEO:-1.656785;53.808143
LOCATION:St Thomas' Stanningley
URL:https://www.achurchnearyou.com/church/3298/service-and-events/events/1
 206904/
END:VEVENT
BEGIN:VEVENT
SUMMARY:Holy Communion
DTSTART;TZID=Europe/London:20270207T091500
DTEND;TZID=Europe/London:20270207T094500
DTSTAMP:20260422T121358Z
UID:12069042027-02-07 09:15:00+00:00achurchnearyou
CATEGORIES:
DESCRIPTION:Join us for a short service of Holy Communion.
GEO:-1.656785;53.808143
LOCATION:St Thomas' Stanningley
URL:https://www.achurchnearyou.com/church/3298/service-and-events/events/1
 206904/
END:VEVENT
BEGIN:VEVENT
SUMMARY:Holy Communion
DTSTART;TZID=Europe/London:20270307T091500
DTEND;TZID=Europe/London:20270307T094500
DTSTAMP:20260422T121358Z
UID:12069042027-03-07 09:15:00+00:00achurchnearyou
CATEGORIES:
DESCRIPTION:Join us for a short service of Holy Communion.
GEO:-1.656785;53.808143
LOCATION:St Thomas' Stanningley
URL:https://www.achurchnearyou.com/church/3298/service-and-events/events/1
 206904/
END:VEVENT
BEGIN:VEVENT
SUMMARY:Holy Communion
DTSTART;TZID=Europe/London:20270404T091500
DTEND;TZID=Europe/London:20270404T094500
DTSTAMP:20260422T121358Z
UID:12069042027-04-04 09:15:00+01:00achurchnearyou
CATEGORIES:
DESCRIPTION:Join us for a short service of Holy Communion.
GEO:-1.656785;53.808143
LOCATION:St Thomas' Stanningley
URL:https://www.achurchnearyou.com/church/3298/service-and-events/events/1
 206904/
END:VEVENT
END:VCALENDAR
