BEGIN:VCALENDAR
VERSION:2.0
PRODID:-//achurchnearyou.com//eventfeed//EN
CALSCALE:GREGORIAN
METHOD:PUBLISH
X-WR-TIMEZONE:UTC
BEGIN:VEVENT
SUMMARY:Experience Easter
DTSTART:20250418T090000Z
DTEND:20250418T100000Z
DTSTAMP:20260425T040446Z
UID:11874892025-04-18 09:00:00+00:00achurchnearyou
CATEGORIES:
DESCRIPTION:Come and Experience Easter with all the family – a fun\, mul
 ti sensory event about the real reason for Easter.
LOCATION:St Catherine's Tilehurst
URL:https://www.achurchnearyou.com/church/330/service-and-events/events/11
 87489/
END:VEVENT
END:VCALENDAR
