BEGIN:VCALENDAR
VERSION:2.0
PRODID:-//achurchnearyou.com//eventfeed//EN
CALSCALE:GREGORIAN
METHOD:PUBLISH
X-WR-TIMEZONE:UTC
BEGIN:VEVENT
SUMMARY:Family Easter Communion
DTSTART:20260405T083000Z
DTEND:20260405T093000Z
DTSTAMP:20260422T030617Z
UID:11679352026-04-05 08:30:00+00:00achurchnearyou
CATEGORIES:
DESCRIPTION:A family flavoured Easter Day service\, with something for all
  ages.
GEO:-1.697117;54.031649
LOCATION:Darley: Christ Church
URL:https://www.achurchnearyou.com/church/3305/service-and-events/events/1
 167935/
END:VEVENT
END:VCALENDAR
