BEGIN:VCALENDAR
VERSION:2.0
PRODID:-//achurchnearyou.com//eventfeed//EN
CALSCALE:GREGORIAN
METHOD:PUBLISH
X-WR-TIMEZONE:UTC
BEGIN:VEVENT
SUMMARY:Family Crib Service
DTSTART:20251224T160000Z
DTEND:20251224T164500Z
DTSTAMP:20260422T105326Z
UID:12380072025-12-24 16:00:00+00:00achurchnearyou
CATEGORIES:
DESCRIPTION:A family friendly Christmas Eve carol service\, with blessing 
 of the crib scene. The children can be involved helping us put the figures
  in the scene.
GEO:-1.697117;54.031649
LOCATION:Darley: Christ Church
URL:https://www.achurchnearyou.com/church/3305/service-and-events/events/1
 238007/
END:VEVENT
END:VCALENDAR
