BEGIN:VCALENDAR
VERSION:2.0
PRODID:-//achurchnearyou.com//eventfeed//EN
CALSCALE:GREGORIAN
METHOD:PUBLISH
X-WR-TIMEZONE:UTC
BEGIN:VEVENT
SUMMARY:Breakfast on the Road to Emmaus
DTSTART:20260412T083000Z
DTEND:20260412T093000Z
DTSTAMP:20260423T235929Z
UID:13076492026-04-12 08:30:00+00:00achurchnearyou
CATEGORIES:
DESCRIPTION:📍 The Pathfinder CofE Primary School\n📅 Sunday 12th Apri
 l\n🕤 9.30am\n🥐 Starting with breakfast together\n\nAfter the excitem
 ent of Easter morning\, the story continues. Two disciples walk a dusty ro
 ad\, talking through everything that has happened — and discover that th
 e risen Jesus is walking with them.\n\nThis year we’re gathering for a s
 imple end-of-holiday breakfast as we explore that story together. Expect c
 onversation\, reflection\, and space to wonder about where we meet God in 
 the ordinary moments of life.\n\nWhether church is familiar or completely 
 new to you\, you’re warmly welcome to come just as you are. There will b
 e space for all ages to join in the story — or simply enjoy breakfast an
 d good company.\n\nExpect food\, story\, curiosity\, and community as we c
 ontinue the Easter journey together.\n\nFind out more: northstowe.church/e
 aster\n\n#Northstowe #RoadToEmmaus #EasterJourney #AllAreWelcome #PrayingE
 xploringSharing
GEO:0.05426645278930664;52.287167535157664
LOCATION:Northstowe Church Network (Pathfinder Church\, Little Explorers\,
  Compline Community...)
URL:https://www.northstowe.church/pathfinder
END:VEVENT
END:VCALENDAR
