BEGIN:VCALENDAR
VERSION:2.0
PRODID:-//achurchnearyou.com//eventfeed//EN
CALSCALE:GREGORIAN
METHOD:PUBLISH
X-WR-TIMEZONE:UTC
BEGIN:VEVENT
SUMMARY:The Bible Course
DTSTART;TZID=Europe/London:20240223T113000
DTEND;TZID=Europe/London:20240223T123000
DTSTAMP:20260419T160126Z
UID:10313792024-02-23 11:30:00+00:00achurchnearyou
CATEGORIES:
DESCRIPTION:Whether you’re well versed in Scripture or new to the Bible\
 , The Bible Course offers a superb overview of the world’s best-selling 
 book.   The course will increase your confidence\, equip you to read the B
 ible better and help you to see its relevance to daily life. Over eight in
 teractive sessions\, it combines video teaching\, group discussion\, perso
 nal reflection and daily readings. Sessions will be on Friday from 11:30
  am to 12:30 pm\, commencing on Friday 23rd February for 8 weeks (but with
  no session on Good Friday). Please contact us at secretary@fuertechurch
 .org for further information and directions.
LOCATION:Casa Bob (The Chaplaincy House)
URL:https://www.achurchnearyou.com/church/33369/service-and-events/events/
 1031379/
END:VEVENT
BEGIN:VEVENT
SUMMARY:The Bible Course
DTSTART;TZID=Europe/London:20240301T113000
DTEND;TZID=Europe/London:20240301T123000
DTSTAMP:20260419T160126Z
UID:10313792024-03-01 11:30:00+00:00achurchnearyou
CATEGORIES:
DESCRIPTION:Whether you’re well versed in Scripture or new to the Bible\
 , The Bible Course offers a superb overview of the world’s best-selling 
 book.   The course will increase your confidence\, equip you to read the B
 ible better and help you to see its relevance to daily life. Over eight in
 teractive sessions\, it combines video teaching\, group discussion\, perso
 nal reflection and daily readings. Sessions will be on Friday from 11:30
  am to 12:30 pm\, commencing on Friday 23rd February for 8 weeks (but with
  no session on Good Friday). Please contact us at secretary@fuertechurch
 .org for further information and directions.
LOCATION:Casa Bob (The Chaplaincy House)
URL:https://www.achurchnearyou.com/church/33369/service-and-events/events/
 1031379/
END:VEVENT
BEGIN:VEVENT
SUMMARY:The Bible Course
DTSTART;TZID=Europe/London:20240308T113000
DTEND;TZID=Europe/London:20240308T123000
DTSTAMP:20260419T160126Z
UID:10313792024-03-08 11:30:00+00:00achurchnearyou
CATEGORIES:
DESCRIPTION:Whether you’re well versed in Scripture or new to the Bible\
 , The Bible Course offers a superb overview of the world’s best-selling 
 book.   The course will increase your confidence\, equip you to read the B
 ible better and help you to see its relevance to daily life. Over eight in
 teractive sessions\, it combines video teaching\, group discussion\, perso
 nal reflection and daily readings. Sessions will be on Friday from 11:30
  am to 12:30 pm\, commencing on Friday 23rd February for 8 weeks (but with
  no session on Good Friday). Please contact us at secretary@fuertechurch
 .org for further information and directions.
LOCATION:Casa Bob (The Chaplaincy House)
URL:https://www.achurchnearyou.com/church/33369/service-and-events/events/
 1031379/
END:VEVENT
BEGIN:VEVENT
SUMMARY:The Bible Course
DTSTART;TZID=Europe/London:20240315T113000
DTEND;TZID=Europe/London:20240315T123000
DTSTAMP:20260419T160126Z
UID:10313792024-03-15 11:30:00+00:00achurchnearyou
CATEGORIES:
DESCRIPTION:Whether you’re well versed in Scripture or new to the Bible\
 , The Bible Course offers a superb overview of the world’s best-selling 
 book.   The course will increase your confidence\, equip you to read the B
 ible better and help you to see its relevance to daily life. Over eight in
 teractive sessions\, it combines video teaching\, group discussion\, perso
 nal reflection and daily readings. Sessions will be on Friday from 11:30
  am to 12:30 pm\, commencing on Friday 23rd February for 8 weeks (but with
  no session on Good Friday). Please contact us at secretary@fuertechurch
 .org for further information and directions.
LOCATION:Casa Bob (The Chaplaincy House)
URL:https://www.achurchnearyou.com/church/33369/service-and-events/events/
 1031379/
END:VEVENT
BEGIN:VEVENT
SUMMARY:The Bible Course
DTSTART;TZID=Europe/London:20240322T113000
DTEND;TZID=Europe/London:20240322T123000
DTSTAMP:20260419T160126Z
UID:10313792024-03-22 11:30:00+00:00achurchnearyou
CATEGORIES:
DESCRIPTION:Whether you’re well versed in Scripture or new to the Bible\
 , The Bible Course offers a superb overview of the world’s best-selling 
 book.   The course will increase your confidence\, equip you to read the B
 ible better and help you to see its relevance to daily life. Over eight in
 teractive sessions\, it combines video teaching\, group discussion\, perso
 nal reflection and daily readings. Sessions will be on Friday from 11:30
  am to 12:30 pm\, commencing on Friday 23rd February for 8 weeks (but with
  no session on Good Friday). Please contact us at secretary@fuertechurch
 .org for further information and directions.
LOCATION:Casa Bob (The Chaplaincy House)
URL:https://www.achurchnearyou.com/church/33369/service-and-events/events/
 1031379/
END:VEVENT
BEGIN:VEVENT
SUMMARY:The Bible Course
DTSTART;TZID=Europe/London:20240329T113000
DTEND;TZID=Europe/London:20240329T123000
DTSTAMP:20260419T160126Z
UID:10313792024-03-29 11:30:00+00:00achurchnearyou
CATEGORIES:
DESCRIPTION:Whether you’re well versed in Scripture or new to the Bible\
 , The Bible Course offers a superb overview of the world’s best-selling 
 book.   The course will increase your confidence\, equip you to read the B
 ible better and help you to see its relevance to daily life. Over eight in
 teractive sessions\, it combines video teaching\, group discussion\, perso
 nal reflection and daily readings. Sessions will be on Friday from 11:30
  am to 12:30 pm\, commencing on Friday 23rd February for 8 weeks (but with
  no session on Good Friday). Please contact us at secretary@fuertechurch
 .org for further information and directions.
LOCATION:Casa Bob (The Chaplaincy House)
URL:https://www.achurchnearyou.com/church/33369/service-and-events/events/
 1031379/
END:VEVENT
BEGIN:VEVENT
SUMMARY:The Bible Course
DTSTART;TZID=Europe/London:20240405T113000
DTEND;TZID=Europe/London:20240405T123000
DTSTAMP:20260419T160126Z
UID:10313792024-04-05 11:30:00+01:00achurchnearyou
CATEGORIES:
DESCRIPTION:Whether you’re well versed in Scripture or new to the Bible\
 , The Bible Course offers a superb overview of the world’s best-selling 
 book.   The course will increase your confidence\, equip you to read the B
 ible better and help you to see its relevance to daily life. Over eight in
 teractive sessions\, it combines video teaching\, group discussion\, perso
 nal reflection and daily readings. Sessions will be on Friday from 11:30
  am to 12:30 pm\, commencing on Friday 23rd February for 8 weeks (but with
  no session on Good Friday). Please contact us at secretary@fuertechurch
 .org for further information and directions.
LOCATION:Casa Bob (The Chaplaincy House)
URL:https://www.achurchnearyou.com/church/33369/service-and-events/events/
 1031379/
END:VEVENT
BEGIN:VEVENT
SUMMARY:The Bible Course
DTSTART;TZID=Europe/London:20240412T113000
DTEND;TZID=Europe/London:20240412T123000
DTSTAMP:20260419T160126Z
UID:10313792024-04-12 11:30:00+01:00achurchnearyou
CATEGORIES:
DESCRIPTION:Whether you’re well versed in Scripture or new to the Bible\
 , The Bible Course offers a superb overview of the world’s best-selling 
 book.   The course will increase your confidence\, equip you to read the B
 ible better and help you to see its relevance to daily life. Over eight in
 teractive sessions\, it combines video teaching\, group discussion\, perso
 nal reflection and daily readings. Sessions will be on Friday from 11:30
  am to 12:30 pm\, commencing on Friday 23rd February for 8 weeks (but with
  no session on Good Friday). Please contact us at secretary@fuertechurch
 .org for further information and directions.
LOCATION:Casa Bob (The Chaplaincy House)
URL:https://www.achurchnearyou.com/church/33369/service-and-events/events/
 1031379/
END:VEVENT
BEGIN:VEVENT
SUMMARY:The Bible Course
DTSTART;TZID=Europe/London:20240419T113000
DTEND;TZID=Europe/London:20240419T123000
DTSTAMP:20260419T160126Z
UID:10313792024-04-19 11:30:00+01:00achurchnearyou
CATEGORIES:
DESCRIPTION:Whether you’re well versed in Scripture or new to the Bible\
 , The Bible Course offers a superb overview of the world’s best-selling 
 book.   The course will increase your confidence\, equip you to read the B
 ible better and help you to see its relevance to daily life. Over eight in
 teractive sessions\, it combines video teaching\, group discussion\, perso
 nal reflection and daily readings. Sessions will be on Friday from 11:30
  am to 12:30 pm\, commencing on Friday 23rd February for 8 weeks (but with
  no session on Good Friday). Please contact us at secretary@fuertechurch
 .org for further information and directions.
LOCATION:Casa Bob (The Chaplaincy House)
URL:https://www.achurchnearyou.com/church/33369/service-and-events/events/
 1031379/
END:VEVENT
END:VCALENDAR
