BEGIN:VCALENDAR
VERSION:2.0
PRODID:-//achurchnearyou.com//eventfeed//EN
CALSCALE:GREGORIAN
METHOD:PUBLISH
X-WR-TIMEZONE:UTC
BEGIN:VEVENT
SUMMARY:Lent Reflection 2026 - 'Stop and Stare'
DTSTART;TZID=Europe/London:20260225T103000
DTEND;TZID=Europe/London:20260225T113000
DTSTAMP:20260419T235204Z
UID:12942712026-02-25 10:30:00+00:00achurchnearyou
CATEGORIES:
DESCRIPTION:Follow our weekly Lent reflection by downloading your own copy
  for use wherever you are or join us in person.
LOCATION:Ask the Chaplain for details.
URL:https://fuertechurch.org/wp-content/uploads/2026/02/lent-2026-final-a4
 .pdf
END:VEVENT
BEGIN:VEVENT
SUMMARY:Lent Reflection 2026 - 'Stop and Stare'
DTSTART;TZID=Europe/London:20260304T103000
DTEND;TZID=Europe/London:20260304T113000
DTSTAMP:20260419T235204Z
UID:12942712026-03-04 10:30:00+00:00achurchnearyou
CATEGORIES:
DESCRIPTION:Follow our weekly Lent reflection by downloading your own copy
  for use wherever you are or join us in person.
LOCATION:Ask the Chaplain for details.
URL:https://fuertechurch.org/wp-content/uploads/2026/02/lent-2026-final-a4
 .pdf
END:VEVENT
BEGIN:VEVENT
SUMMARY:Lent Reflection 2026 - 'Stop and Stare'
DTSTART;TZID=Europe/London:20260311T103000
DTEND;TZID=Europe/London:20260311T113000
DTSTAMP:20260419T235204Z
UID:12942712026-03-11 10:30:00+00:00achurchnearyou
CATEGORIES:
DESCRIPTION:Follow our weekly Lent reflection by downloading your own copy
  for use wherever you are or join us in person.
LOCATION:Ask the Chaplain for details.
URL:https://fuertechurch.org/wp-content/uploads/2026/02/lent-2026-final-a4
 .pdf
END:VEVENT
BEGIN:VEVENT
SUMMARY:Lent Reflection 2026 - 'Stop and Stare'
DTSTART;TZID=Europe/London:20260318T103000
DTEND;TZID=Europe/London:20260318T113000
DTSTAMP:20260419T235204Z
UID:12942712026-03-18 10:30:00+00:00achurchnearyou
CATEGORIES:
DESCRIPTION:Follow our weekly Lent reflection by downloading your own copy
  for use wherever you are or join us in person.
LOCATION:Ask the Chaplain for details.
URL:https://fuertechurch.org/wp-content/uploads/2026/02/lent-2026-final-a4
 .pdf
END:VEVENT
BEGIN:VEVENT
SUMMARY:Lent Reflection 2026 - 'Stop and Stare'
DTSTART;TZID=Europe/London:20260325T103000
DTEND;TZID=Europe/London:20260325T113000
DTSTAMP:20260419T235204Z
UID:12942712026-03-25 10:30:00+00:00achurchnearyou
CATEGORIES:
DESCRIPTION:Follow our weekly Lent reflection by downloading your own copy
  for use wherever you are or join us in person.
LOCATION:Ask the Chaplain for details.
URL:https://fuertechurch.org/wp-content/uploads/2026/02/lent-2026-final-a4
 .pdf
END:VEVENT
END:VCALENDAR
