BEGIN:VCALENDAR
VERSION:2.0
PRODID:-//achurchnearyou.com//eventfeed//EN
CALSCALE:GREGORIAN
METHOD:PUBLISH
X-WR-TIMEZONE:UTC
BEGIN:VEVENT
SUMMARY:Compline (night prayer)
DTSTART:20260223T190000Z
DTEND:20260223T193000Z
DTSTAMP:20260424T063657Z
UID:12936612026-02-23 19:00:00+00:00achurchnearyou
CATEGORIES:
DESCRIPTION:A short quiet service – a space to reflect.
GEO:-1.583903;53.857624
LOCATION:Adel: Parish Church (St John the Baptist)
URL:https://www.achurchnearyou.com/church/3337/service-and-events/events/1
 293661/
END:VEVENT
END:VCALENDAR
