BEGIN:VCALENDAR
VERSION:2.0
PRODID:-//achurchnearyou.com//eventfeed//EN
CALSCALE:GREGORIAN
METHOD:PUBLISH
X-WR-TIMEZONE:UTC
BEGIN:VEVENT
SUMMARY:Easter Day
DTSTART:20260405T050000Z
DTEND:20260405T060000Z
DTSTAMP:20260424T021257Z
UID:13023732026-04-05 05:00:00+00:00achurchnearyou
CATEGORIES:
DESCRIPTION:Dawn Eucharist with the new fire of Easter\, renewal of baptis
 m promises and the first Eucharist of Easter (followed by breakfast)
GEO:-1.583903;53.857624
LOCATION:Adel: Parish Church (St John the Baptist)
URL:https://www.achurchnearyou.com/church/3337/service-and-events/events/1
 302373/
END:VEVENT
END:VCALENDAR
