BEGIN:VCALENDAR
VERSION:2.0
PRODID:-//achurchnearyou.com//eventfeed//EN
CALSCALE:GREGORIAN
METHOD:PUBLISH
X-WR-TIMEZONE:UTC
BEGIN:VEVENT
SUMMARY:Easter Sunday All Age Communion
DTSTART:20250420T093000Z
DTEND:20250420T103000Z
DTSTAMP:20260424T234723Z
UID:11829062025-04-20 09:30:00+00:00achurchnearyou
CATEGORIES:
DESCRIPTION:All welcome
GEO:-3.097111276721183;53.32784607263094
LOCATION:The Lighthouse Church
URL:https://heswallparish.churchsuite.com/events/e2kh0cpi
END:VEVENT
END:VCALENDAR
